BEGIN:VCALENDAR
VERSION:2.0
PRODID:-//89.238.170.93//NONSGML kigkonsult.se iCalcreator 2.26.9//
CALSCALE:GREGORIAN
METHOD:PUBLISH
X-FROM-URL:http://www.blc.lu
X-WR-TIMEZONE:Europe/Luxembourg
BEGIN:VTIMEZONE
TZID:Europe/Luxembourg
X-LIC-LOCATION:Europe/Luxembourg
BEGIN:STANDARD
DTSTART:20201025T030000
TZOFFSETFROM:+0200
TZOFFSETTO:+0100
RDATE:20211031T030000
TZNAME:CET
END:STANDARD
BEGIN:DAYLIGHT
DTSTART:20210328T020000
TZOFFSETFROM:+0100
TZOFFSETTO:+0200
RDATE:20220327T020000
TZNAME:CEST
END:DAYLIGHT
END:VTIMEZONE
BEGIN:VEVENT
UID:ai1ec-37062@www.blc.lu
DTSTAMP:20210424T003643Z
CATEGORIES;LANGUAGE=en-GB:BLC Events\,Self Defence\,Sport
CONTACT:Jugera\; chair@blc.lu
DESCRIPTION:In celebration and contribution to International Women’s Day 20
 19 the BLC will offer to its members Self-Defense training events which wi
 ll be free to all our members to attend. Our focus will be to empower wome
 n\, both physically and psychologically\, in a single 2 hour training sess
 ion\, with skills that will serve them for a lifetime.\nMake sure to reser
 ve your spot in one of the two sessions (either the morning or the afterno
 on one) by sending an email to chair@blc.lu
DTSTART;TZID=Europe/Luxembourg:20190307T190000
DTEND;TZID=Europe/Luxembourg:20190307T210000
LOCATION:to be confirmed
SEQUENCE:0
SUMMARY:BLC Ninjas – International Women Day Self Defence Course: 7 March
URL:http://www.blc.lu/event/blc-ninjas-international-women-day-self-defence
 -course-7-march/
X-COST-TYPE:free
X-ALT-DESC;FMTTYPE=text/html:<!DOCTYPE HTML PUBLIC '-//W3C//DTD HTML 3.2//E
 N'>\\n<HTML>\\n<HEAD>\\n<TITLE></TITLE>\\n</HEAD>\\n<BODY><p>In celebratio
 n and contribution to International Women’s Day 2019 the BLC will offer to
  its members Self-Defense training events which will be free to all our me
 mbers to attend. Our focus will be to empower women\, both physically and 
 psychologically\, in a single 2 hour training session\, with skills that w
 ill serve them for a lifetime.</p>\n<p>Make sure to reserve your spot in o
 ne of the two sessions (either the morning or the afternoon one) by sendin
 g an email to <a href='mailto:chair@blc.lu'>chair@blc.lu</a></p>\n</BODY><
 /HTML>
END:VEVENT
BEGIN:VEVENT
UID:ai1ec-37060@www.blc.lu
DTSTAMP:20210424T003643Z
CATEGORIES;LANGUAGE=en-GB:BLC Events\,Self Defence\,Sport
CONTACT:Jugera\; chair@blc.lu
DESCRIPTION:In celebration and contribution to International Women’s Day 20
 19 the BLC will offer to its members Self-Defense training events which wi
 ll be free to all our members to attend. Our focus will be to empower wome
 n\, both physically and psychologically\, in a single 2 hour training sess
 ion\, with skills that will serve them for a lifetime.\nMake sure to reser
 ve your spot in one of the two sessions (either the morning or the afterno
 on one) by sending an email to chair@blc.lu
DTSTART;TZID=Europe/Luxembourg:20190308T100000
DTEND;TZID=Europe/Luxembourg:20190308T120000
LOCATION:to be confirmed
SEQUENCE:0
SUMMARY:BLC Ninjas – International Women Day Self Defence Course: 8 March
URL:http://www.blc.lu/event/blc-ninjas-international-women-day-self-defence
 -course-8-march/
X-COST-TYPE:free
X-ALT-DESC;FMTTYPE=text/html:<!DOCTYPE HTML PUBLIC '-//W3C//DTD HTML 3.2//E
 N'>\\n<HTML>\\n<HEAD>\\n<TITLE></TITLE>\\n</HEAD>\\n<BODY><p>In celebratio
 n and contribution to International Women’s Day 2019 the BLC will offer to
  its members Self-Defense training events which will be free to all our me
 mbers to attend. Our focus will be to empower women\, both physically and 
 psychologically\, in a single 2 hour training session\, with skills that w
 ill serve them for a lifetime.</p>\n<p>Make sure to reserve your spot in o
 ne of the two sessions (either the morning or the afternoon one) by sendin
 g an email to <a href='mailto:chair@blc.lu'>chair@blc.lu</a></p>\n</BODY><
 /HTML>
END:VEVENT
END:VCALENDAR
