BEGIN:VCALENDAR
VERSION:2.0
PRODID:-//89.238.170.93//NONSGML kigkonsult.se iCalcreator 2.26.9//
CALSCALE:GREGORIAN
METHOD:PUBLISH
X-FROM-URL:http://www.blc.lu
X-WR-TIMEZONE:Europe/Luxembourg
BEGIN:VTIMEZONE
TZID:Europe/Luxembourg
X-LIC-LOCATION:Europe/Luxembourg
BEGIN:STANDARD
DTSTART:20201025T030000
TZOFFSETFROM:+0200
TZOFFSETTO:+0100
RDATE:20211031T030000
TZNAME:CET
END:STANDARD
BEGIN:DAYLIGHT
DTSTART:20210328T020000
TZOFFSETFROM:+0100
TZOFFSETTO:+0200
RDATE:20220327T020000
TZNAME:CEST
END:DAYLIGHT
END:VTIMEZONE
BEGIN:VEVENT
UID:ai1ec-18527@www.blc.lu
DTSTAMP:20210424T002916Z
CATEGORIES;LANGUAGE=en-GB:Children's Activities\,Kids Swimming
CONTACT:Caroline\; kids@blc.lu\; http://www.syrdall-schwemm.lu/en
DESCRIPTION:Some time at the pool for kids to swim and splash whatever the 
 weather! \nIf you would like to join\, simply get in touch with the host b
 elow.\nIf you are interested in organising your own Swim and Splash at a p
 ool near you\, just let us know where and when by emailing kids@blc.lu.\n 
DTSTART;TZID=Europe/Luxembourg:20180426T140000
DTEND;TZID=Europe/Luxembourg:20180426T160000
GEO:+49.652107;+6.24636
LOCATION:Niederanven Syrdall Schwemm @ Routscheed\, 6939 Niederanven\, Luxe
 mbourg
RDATE;TZID=Europe/Luxembourg:20180322T140000
SEQUENCE:0
SUMMARY:Swim and Splash
URL:http://www.blc.lu/event/swim-and-splash/
X-COST-TYPE:free
X-ALT-DESC;FMTTYPE=text/html:<!DOCTYPE HTML PUBLIC '-//W3C//DTD HTML 3.2//E
 N'>\\n<HTML>\\n<HEAD>\\n<TITLE></TITLE>\\n</HEAD>\\n<BODY><p><b>Some time 
 at the pool for kids to swim and splash whatever the weather! </b></p>\n<p
 >If you would like to join\, simply get in touch with the host below.</p>
 \n<p>If you are interested in organising your own Swim and Splash at a poo
 l near you\, just let us know where and when by emailing <a href='mailto:k
 ids@blc.lu'>kids@blc.lu</a>.</p>\n<p> </p>\n</BODY></HTML>
END:VEVENT
END:VCALENDAR
