BEGIN:VCALENDAR
VERSION:2.0
PRODID:-//89.238.170.93//NONSGML kigkonsult.se iCalcreator 2.26.9//
CALSCALE:GREGORIAN
METHOD:PUBLISH
X-FROM-URL:http://www.blc.lu
X-WR-TIMEZONE:Europe/Luxembourg
BEGIN:VTIMEZONE
TZID:Europe/Luxembourg
X-LIC-LOCATION:Europe/Luxembourg
BEGIN:STANDARD
DTSTART:20201025T030000
TZOFFSETFROM:+0200
TZOFFSETTO:+0100
RDATE:20211031T030000
TZNAME:CET
END:STANDARD
BEGIN:DAYLIGHT
DTSTART:20210328T020000
TZOFFSETFROM:+0100
TZOFFSETTO:+0200
RDATE:20220327T020000
TZNAME:CEST
END:DAYLIGHT
END:VTIMEZONE
BEGIN:VEVENT
UID:ai1ec-14104@www.blc.lu
DTSTAMP:20210424T003859Z
CATEGORIES;LANGUAGE=en-GB:BLC Events\,Social\,Talk\,Workshop
CONTACT:Jugera\; chair@blc.lu\; https://le-sud.lu
DESCRIPTION:We look forward to you participating in as many events as you c
 an during the BLC’s special 50th anniversary year.\ndetails to follow\nSpa
 ces for this event are limited\, so please register in advance at chair@bl
 c.lu\n \n\n\n\n \n \n \n \n 
DTSTART;TZID=Europe/Luxembourg:20190625T190000
DTEND;TZID=Europe/Luxembourg:20190625T213000
GEO:+49.640158;+6.147714
LOCATION:Le Sud @ 8 Rives de Clausen\, 1123 Lëtzebuerg
SEQUENCE:0
SUMMARY:Professional and Entrepreneurial Women
URL:http://www.blc.lu/event/professional-and-entrepreneurial-women/
X-COST-TYPE:free
X-ALT-DESC;FMTTYPE=text/html:<!DOCTYPE HTML PUBLIC '-//W3C//DTD HTML 3.2//E
 N'>\\n<HTML>\\n<HEAD>\\n<TITLE></TITLE>\\n</HEAD>\\n<BODY><div class='text
 _exposed_show'>\n<div class='text_exposed_show'>\n<div class='text_exposed
 _show'>\n<p>We look forward to you participating in as many events as you 
 can during the BLC’s special 50th anniversary year.</p>\n<p>details to fol
 low</p>\n<p>Spaces for this event are limited\, so please register in adva
 nce at <a href='mailto:chair@blc.lu'>chair@blc.lu</a></p>\n<p> </p>\n</div
 >\n</div>\n</div>\n<p> </p>\n<p> </p>\n<p> </p>\n<p> </p>\n<p> </p>\n</BOD
 Y></HTML>
END:VEVENT
END:VCALENDAR
