BEGIN:VCALENDAR
VERSION:2.0
PRODID:-//89.238.170.93//NONSGML kigkonsult.se iCalcreator 2.26.9//
CALSCALE:GREGORIAN
METHOD:PUBLISH
X-FROM-URL:http://www.blc.lu
X-WR-TIMEZONE:Europe/Luxembourg
BEGIN:VTIMEZONE
TZID:Europe/Luxembourg
X-LIC-LOCATION:Europe/Luxembourg
BEGIN:STANDARD
DTSTART:20201025T030000
TZOFFSETFROM:+0200
TZOFFSETTO:+0100
RDATE:20211031T030000
TZNAME:CET
END:STANDARD
BEGIN:DAYLIGHT
DTSTART:20210328T020000
TZOFFSETFROM:+0100
TZOFFSETTO:+0200
RDATE:20220327T020000
TZNAME:CEST
END:DAYLIGHT
END:VTIMEZONE
BEGIN:VEVENT
UID:ai1ec-8817@www.blc.lu
DTSTAMP:20210424T002512Z
CATEGORIES;LANGUAGE=en-GB:BLC Kids Event\,Children's Activities\,Songtime
CONTACT:Leslie\; kids@blc.lu
DESCRIPTION:Pipsqueaks is a group for parents to get-together with their yo
 unger-aged children for a sing-along session at a members home or sometime
 s we organise meet-ups somewhere outside for some fresh air and a runaroun
 d. Newcomers always welcome.\nWe’ve also created a new group on Tuesday af
 ternoons called Coffee\, Cake and Play so that our ‘graduates’ can still m
 eet up. All ages are welcome and many older and younger siblings will be c
 oming too. If the children want to we will also sing some nursery rhymes.
DTSTART;TZID=Europe/Luxembourg:20190325T133000
DTEND;TZID=Europe/Luxembourg:20190325T160000
LOCATION:songtime @ Bertrange
SEQUENCE:0
SUMMARY:Pipsqueaks – Afternoon
URL:http://www.blc.lu/event/pipsqueaks-afternoon-8/
X-COST-TYPE:free
X-ALT-DESC;FMTTYPE=text/html:<!DOCTYPE HTML PUBLIC '-//W3C//DTD HTML 3.2//E
 N'>\\n<HTML>\\n<HEAD>\\n<TITLE></TITLE>\\n</HEAD>\\n<BODY><p style='text-a
 lign: left\;'>Pipsqueaks is a group for parents to get-together with their
  younger-aged children for a sing-along session at a members home or somet
 imes we organise meet-ups somewhere outside for some fresh air and a runar
 ound. Newcomers always welcome.</p>\n<p>We’ve also created a new group on 
 Tuesday afternoons called Coffee\, Cake and Play so that our ‘graduates’ c
 an still meet up. All ages are welcome and many older and younger siblings
  will be coming too. If the children want to we will also sing some nurser
 y rhymes.</p>\n<p style='text-align: left\;'>\n</BODY></HTML>
END:VEVENT
BEGIN:VEVENT
UID:ai1ec-8816@www.blc.lu
DTSTAMP:20210424T002512Z
CATEGORIES;LANGUAGE=en-GB:BLC Kids Event\,Children's Activities\,Songtime
CONTACT:George\; kids@blc.lu
DESCRIPTION:Pipsqueaks is a group for parents to get-together with their yo
 unger-aged children for a sing-along session at a members home or sometime
 s we organise meet-ups somewhere outside for some fresh air and a runaroun
 d. Newcomers always welcome.\nWe’ve also created a new group on Tuesday af
 ternoons called Coffee\, Cake and Play so that our ‘graduates’ can still m
 eet up. All ages are welcome and many older and younger siblings will be c
 oming too. If the children want to we will also sing some nursery rhymes.
DTSTART;TZID=Europe/Luxembourg:20190401T140000
DTEND;TZID=Europe/Luxembourg:20190401T160000
GEO:+49.585159;+6.227488
LOCATION:songtime @ Strassen
SEQUENCE:0
SUMMARY:Pipsqueaks – Afternoon
URL:http://www.blc.lu/event/pipsqueaks-afternoon-7/
X-COST-TYPE:free
X-ALT-DESC;FMTTYPE=text/html:<!DOCTYPE HTML PUBLIC '-//W3C//DTD HTML 3.2//E
 N'>\\n<HTML>\\n<HEAD>\\n<TITLE></TITLE>\\n</HEAD>\\n<BODY><p style='text-a
 lign: left\;'>Pipsqueaks is a group for parents to get-together with their
  younger-aged children for a sing-along session at a members home or somet
 imes we organise meet-ups somewhere outside for some fresh air and a runar
 ound. Newcomers always welcome.</p>\n<p>We’ve also created a new group on 
 Tuesday afternoons called Coffee\, Cake and Play so that our ‘graduates’ c
 an still meet up. All ages are welcome and many older and younger siblings
  will be coming too. If the children want to we will also sing some nurser
 y rhymes.</p>\n<p style='text-align: left\;'>\n</BODY></HTML>
END:VEVENT
BEGIN:VEVENT
UID:ai1ec-8649@www.blc.lu
DTSTAMP:20210424T002512Z
CATEGORIES;LANGUAGE=en-GB:BLC Kids Event\,Children's Activities\,Songtime
CONTACT:Amy\; kids@blc.lu
DESCRIPTION:Pipsqueaks is a group for parents to get-together with their yo
 unger-aged children for a sing-along session at a members home or sometime
 s we organise meet-ups somewhere outside for some fresh air and a runaroun
 d. Newcomers always welcome.\nWe’ve also created a new group on Tuesday af
 ternoons called Coffee\, Cake and Play so that our ‘graduates’ can still m
 eet up. All ages are welcome and many older and younger siblings will be c
 oming too. If the children want to we will also sing some nursery rhymes.
DTSTART;TZID=Europe/Luxembourg:20190408T140000
DTEND;TZID=Europe/Luxembourg:20190408T160000
GEO:+49.608266;+6.051057
LOCATION:songtime @ Reckange
SEQUENCE:0
SUMMARY:Pipsqueaks – Afternoon
URL:http://www.blc.lu/event/pipsqueaks-afternoon-3/
X-COST-TYPE:free
X-ALT-DESC;FMTTYPE=text/html:<!DOCTYPE HTML PUBLIC '-//W3C//DTD HTML 3.2//E
 N'>\\n<HTML>\\n<HEAD>\\n<TITLE></TITLE>\\n</HEAD>\\n<BODY><p style='text-a
 lign: left\;'>Pipsqueaks is a group for parents to get-together with their
  younger-aged children for a sing-along session at a members home or somet
 imes we organise meet-ups somewhere outside for some fresh air and a runar
 ound. Newcomers always welcome.</p>\n<p>We’ve also created a new group on 
 Tuesday afternoons called Coffee\, Cake and Play so that our ‘graduates’ c
 an still meet up. All ages are welcome and many older and younger siblings
  will be coming too. If the children want to we will also sing some nurser
 y rhymes.</p>\n<p style='text-align: left\;'>\n</BODY></HTML>
END:VEVENT
BEGIN:VEVENT
UID:ai1ec-8818@www.blc.lu
DTSTAMP:20210424T002512Z
CATEGORIES;LANGUAGE=en-GB:BLC Kids Event\,Children's Activities\,Songtime
CONTACT:Leslie\; kids@blc.lu
DESCRIPTION:Pipsqueaks is a group for parents to get-together with their yo
 unger-aged children for a sing-along session at a members home or sometime
 s we organise meet-ups somewhere outside for some fresh air and a runaroun
 d. Newcomers always welcome.\nWe’ve also created a new group on Tuesday af
 ternoons called Coffee\, Cake and Play so that our ‘graduates’ can still m
 eet up. All ages are welcome and many older and younger siblings will be c
 oming too. If the children want to we will also sing some nursery rhymes.
DTSTART;TZID=Europe/Luxembourg:20190415T140000
DTEND;TZID=Europe/Luxembourg:20190415T160000
LOCATION:songtime @ Bertrange
SEQUENCE:0
SUMMARY:Pipsqueaks – Afternoon
URL:http://www.blc.lu/event/pipsqueaks-afternoon-9/
X-COST-TYPE:free
X-ALT-DESC;FMTTYPE=text/html:<!DOCTYPE HTML PUBLIC '-//W3C//DTD HTML 3.2//E
 N'>\\n<HTML>\\n<HEAD>\\n<TITLE></TITLE>\\n</HEAD>\\n<BODY><p style='text-a
 lign: left\;'>Pipsqueaks is a group for parents to get-together with their
  younger-aged children for a sing-along session at a members home or somet
 imes we organise meet-ups somewhere outside for some fresh air and a runar
 ound. Newcomers always welcome.</p>\n<p>We’ve also created a new group on 
 Tuesday afternoons called Coffee\, Cake and Play so that our ‘graduates’ c
 an still meet up. All ages are welcome and many older and younger siblings
  will be coming too. If the children want to we will also sing some nurser
 y rhymes.</p>\n<p style='text-align: left\;'>\n</BODY></HTML>
END:VEVENT
BEGIN:VEVENT
UID:ai1ec-8819@www.blc.lu
DTSTAMP:20210424T002512Z
CATEGORIES;LANGUAGE=en-GB:BLC Kids Event\,Children's Activities\,Songtime
CONTACT:Chanz\; kids@blc.lu
DESCRIPTION:Pipsqueaks is a group for parents to get-together with their yo
 unger-aged children for a sing-along session at a members home or sometime
 s we organise meet-ups somewhere outside for some fresh air and a runaroun
 d. Newcomers always welcome.\nWe’ve also created a new group on Tuesday af
 ternoons called Coffee\, Cake and Play so that our ‘graduates’ can still m
 eet up. All ages are welcome and many older and younger siblings will be c
 oming too. If the children want to we will also sing some nursery rhymes.
DTSTART;TZID=Europe/Luxembourg:20190429T140000
DTEND;TZID=Europe/Luxembourg:20190429T160000
LOCATION:songtime
SEQUENCE:0
SUMMARY:Pipsqueaks – Afternoon
URL:http://www.blc.lu/event/pipsqueaks-afternoon-10/
X-COST-TYPE:free
X-ALT-DESC;FMTTYPE=text/html:<!DOCTYPE HTML PUBLIC '-//W3C//DTD HTML 3.2//E
 N'>\\n<HTML>\\n<HEAD>\\n<TITLE></TITLE>\\n</HEAD>\\n<BODY><p style='text-a
 lign: left\;'>Pipsqueaks is a group for parents to get-together with their
  younger-aged children for a sing-along session at a members home or somet
 imes we organise meet-ups somewhere outside for some fresh air and a runar
 ound. Newcomers always welcome.</p>\n<p>We’ve also created a new group on 
 Tuesday afternoons called Coffee\, Cake and Play so that our ‘graduates’ c
 an still meet up. All ages are welcome and many older and younger siblings
  will be coming too. If the children want to we will also sing some nurser
 y rhymes.</p>\n<p style='text-align: left\;'>\n</BODY></HTML>
END:VEVENT
BEGIN:VEVENT
UID:ai1ec-8651@www.blc.lu
DTSTAMP:20210424T002512Z
CATEGORIES;LANGUAGE=en-GB:BLC Kids Event\,Children's Activities\,Songtime
CONTACT:Anna\; kids@blc.lu
DESCRIPTION:Pipsqueaks is a group for parents to get-together with their yo
 unger-aged children for a sing-along session at a members home or sometime
 s we organise meet-ups somewhere outside for some fresh air and a runaroun
 d. Newcomers always welcome.\nWe’ve also created a new group on Tuesday af
 ternoons called Coffee\, Cake and Play so that our ‘graduates’ can still m
 eet up. All ages are welcome and many older and younger siblings will be c
 oming too. If the children want to we will also sing some nursery rhymes.
DTSTART;TZID=Europe/Luxembourg:20190513T140000
DTEND;TZID=Europe/Luxembourg:20190513T160000
GEO:+49.608266;+6.051057
LOCATION:songtime @ Mamer
SEQUENCE:0
SUMMARY:Pipsqueaks – Afternoon
URL:http://www.blc.lu/event/pipsqueaks-afternoon-5/
X-COST-TYPE:free
X-ALT-DESC;FMTTYPE=text/html:<!DOCTYPE HTML PUBLIC '-//W3C//DTD HTML 3.2//E
 N'>\\n<HTML>\\n<HEAD>\\n<TITLE></TITLE>\\n</HEAD>\\n<BODY><p style='text-a
 lign: left\;'>Pipsqueaks is a group for parents to get-together with their
  younger-aged children for a sing-along session at a members home or somet
 imes we organise meet-ups somewhere outside for some fresh air and a runar
 ound. Newcomers always welcome.</p>\n<p>We’ve also created a new group on 
 Tuesday afternoons called Coffee\, Cake and Play so that our ‘graduates’ c
 an still meet up. All ages are welcome and many older and younger siblings
  will be coming too. If the children want to we will also sing some nurser
 y rhymes.</p>\n<p style='text-align: left\;'>\n</BODY></HTML>
END:VEVENT
BEGIN:VEVENT
UID:ai1ec-8650@www.blc.lu
DTSTAMP:20210424T002512Z
CATEGORIES;LANGUAGE=en-GB:BLC Kids Event\,Children's Activities\,Songtime
CONTACT:George\; kids@blc.lu
DESCRIPTION:Pipsqueaks is a group for parents to get-together with their yo
 unger-aged children for a sing-along session at a members home or sometime
 s we organise meet-ups somewhere outside for some fresh air and a runaroun
 d. Newcomers always welcome.\nWe’ve also created a new group on Tuesday af
 ternoons called Coffee\, Cake and Play so that our ‘graduates’ can still m
 eet up. All ages are welcome and many older and younger siblings will be c
 oming too. If the children want to we will also sing some nursery rhymes.
DTSTART;TZID=Europe/Luxembourg:20190520T140000
DTEND;TZID=Europe/Luxembourg:20190520T160000
LOCATION:songtime @ Strassen
SEQUENCE:0
SUMMARY:Pipsqueaks – Afternoon
URL:http://www.blc.lu/event/pipsqueaks-afternoon-4/
X-COST-TYPE:free
X-ALT-DESC;FMTTYPE=text/html:<!DOCTYPE HTML PUBLIC '-//W3C//DTD HTML 3.2//E
 N'>\\n<HTML>\\n<HEAD>\\n<TITLE></TITLE>\\n</HEAD>\\n<BODY><p style='text-a
 lign: left\;'>Pipsqueaks is a group for parents to get-together with their
  younger-aged children for a sing-along session at a members home or somet
 imes we organise meet-ups somewhere outside for some fresh air and a runar
 ound. Newcomers always welcome.</p>\n<p>We’ve also created a new group on 
 Tuesday afternoons called Coffee\, Cake and Play so that our ‘graduates’ c
 an still meet up. All ages are welcome and many older and younger siblings
  will be coming too. If the children want to we will also sing some nurser
 y rhymes.</p>\n<p style='text-align: left\;'>\n</BODY></HTML>
END:VEVENT
BEGIN:VEVENT
UID:ai1ec-8648@www.blc.lu
DTSTAMP:20210424T002512Z
CATEGORIES;LANGUAGE=en-GB:BLC Kids Event\,Children's Activities\,Songtime
CONTACT:George\; kids@blc.lu
DESCRIPTION:Pipsqueaks is a group for parents to get-together with their yo
 unger-aged children for a sing-along session at a members home or sometime
 s we organise meet-ups somewhere outside for some fresh air and a runaroun
 d. Newcomers always welcome.\nWe’ve also created a new group on Tuesday af
 ternoons called Coffee\, Cake and Play so that our ‘graduates’ can still m
 eet up. All ages are welcome and many older and younger siblings will be c
 oming too. If the children want to we will also sing some nursery rhymes.
DTSTART;TZID=Europe/Luxembourg:20190617T140000
DTEND;TZID=Europe/Luxembourg:20190617T160000
GEO:+49.608266;+6.051057
LOCATION:songtime @ Strassen
SEQUENCE:0
SUMMARY:Pipsqueaks – Afternoon
URL:http://www.blc.lu/event/pipsqueaks-afternoon-2/
X-COST-TYPE:free
X-ALT-DESC;FMTTYPE=text/html:<!DOCTYPE HTML PUBLIC '-//W3C//DTD HTML 3.2//E
 N'>\\n<HTML>\\n<HEAD>\\n<TITLE></TITLE>\\n</HEAD>\\n<BODY><p style='text-a
 lign: left\;'>Pipsqueaks is a group for parents to get-together with their
  younger-aged children for a sing-along session at a members home or somet
 imes we organise meet-ups somewhere outside for some fresh air and a runar
 ound. Newcomers always welcome.</p>\n<p>We’ve also created a new group on 
 Tuesday afternoons called Coffee\, Cake and Play so that our ‘graduates’ c
 an still meet up. All ages are welcome and many older and younger siblings
  will be coming too. If the children want to we will also sing some nurser
 y rhymes.</p>\n<p style='text-align: left\;'>\n</BODY></HTML>
END:VEVENT
BEGIN:VEVENT
UID:ai1ec-8355@www.blc.lu
DTSTAMP:20210424T002512Z
CATEGORIES;LANGUAGE=en-GB:BLC Kids Event\,Children's Activities\,Songtime
CONTACT:Anna\; kids@blc.lu
DESCRIPTION:Pipsqueaks is a group for parents to get-together with their yo
 unger-aged children for a sing-along session at a members home or sometime
 s we organise meet-ups somewhere outside for some fresh air and a runaroun
 d. Newcomers always welcome.\nWe’ve also created a new group on Tuesday af
 ternoons called Coffee\, Cake and Play so that our ‘graduates’ can still m
 eet up. All ages are welcome and many older and younger siblings will be c
 oming too. If the children want to we will also sing some nursery rhymes.
DTSTART;TZID=Europe/Luxembourg:20190624T140000
DTEND;TZID=Europe/Luxembourg:20190624T160000
LOCATION:songtime @ Mamer
SEQUENCE:0
SUMMARY:Pipsqueaks – Afternoon
URL:http://www.blc.lu/event/pipsqueaks-afternoon/
X-COST-TYPE:free
X-ALT-DESC;FMTTYPE=text/html:<!DOCTYPE HTML PUBLIC '-//W3C//DTD HTML 3.2//E
 N'>\\n<HTML>\\n<HEAD>\\n<TITLE></TITLE>\\n</HEAD>\\n<BODY><p style='text-a
 lign: left\;'>Pipsqueaks is a group for parents to get-together with their
  younger-aged children for a sing-along session at a members home or somet
 imes we organise meet-ups somewhere outside for some fresh air and a runar
 ound. Newcomers always welcome.</p>\n<p>We’ve also created a new group on 
 Tuesday afternoons called Coffee\, Cake and Play so that our ‘graduates’ c
 an still meet up. All ages are welcome and many older and younger siblings
  will be coming too. If the children want to we will also sing some nurser
 y rhymes.</p>\n<p style='text-align: left\;'>\n</BODY></HTML>
END:VEVENT
BEGIN:VEVENT
UID:ai1ec-8354@www.blc.lu
DTSTAMP:20210424T002512Z
CATEGORIES;LANGUAGE=en-GB:BLC Kids Event\,Children's Activities\,Songtime
CONTACT:Amy\; kids@blc.lu
DESCRIPTION:Pipsqueaks is a group for parents to get together with their yo
 unger-aged children for a sing-along session at a member’s home\, or somet
 imes we organise meet-ups somewhere outside for some fresh air and a run-a
 round. Newcomers always welcome.\nIt’s a very relaxed morning where the mu
 ms get to chat and drink coffee… we also sing a few nursery rhymes so that
  we can pretend we’ve really come for the kids rather than to socialise an
 d get a caffeine hit! This is a really fun group that we are keen to keep 
 going.\nWe’ve also created a new group on Tuesday afternoons called Coffee
 \, Cake and Play so that our ‘graduates’ can still meet up. All ages are w
 elcome and many older and younger siblings will be coming too. If the chil
 dren want to we will also sing some nursery rhymes.\nPlease plan to arrive
  in time for a 9:45 a.m. start so parents with school-aged children are ab
 le to collect them from school.\nThank you very much!\n 
DTSTART;TZID=Europe/Luxembourg:20200306T093000
DTEND;TZID=Europe/Luxembourg:20200306T110000
GEO:+49.608266;+6.051057
LOCATION:songtime @ Reckange
SEQUENCE:0
SUMMARY:Pipsqueaks – Morning
URL:http://www.blc.lu/event/pipsqueaks-morning/
X-COST-TYPE:free
X-ALT-DESC;FMTTYPE=text/html:<!DOCTYPE HTML PUBLIC '-//W3C//DTD HTML 3.2//E
 N'>\\n<HTML>\\n<HEAD>\\n<TITLE></TITLE>\\n</HEAD>\\n<BODY><p>Pipsqueaks is
  a group for parents to get together with their younger-aged children for 
 a sing-along session at a member’s home\, or sometimes we organise meet-up
 s somewhere outside for some fresh air and a run-around. Newcomers always 
 welcome.</p>\n<p>It’s a very relaxed morning where the mums get to chat an
 d drink coffee… we also sing a few nursery rhymes so that we can pretend w
 e’ve really come for the kids rather than to socialise and get a caffeine 
 hit! This is a really fun group that we are keen to keep going.</p>\n<p>We
 ’ve also created a new group on Tuesday afternoons called Coffee\, Cake an
 d Play so that our ‘graduates’ can still meet up. All ages are welcome and
  many older and younger siblings will be coming too. If the children want 
 to we will also sing some nursery rhymes.</p>\n<p style='text-align: left\
 ;'>Please plan to arrive in time for a 9:45 a.m. start so parents with sch
 ool-aged children are able to collect them from school.</p>\n<p style='tex
 t-align: left\;'>Thank you very much!</p>\n<p> </p>\n</BODY></HTML>
END:VEVENT
BEGIN:VEVENT
UID:ai1ec-8815@www.blc.lu
DTSTAMP:20210424T002512Z
CATEGORIES;LANGUAGE=en-GB:BLC Kids Event\,Children's Activities\,Songtime
CONTACT:George\; kids@blc.lu
DESCRIPTION:Pipsqueaks is a group for parents to get together with their yo
 unger-aged children for a sing-along session at a member’s home\, or somet
 imes we organise meet-ups somewhere outside for some fresh air and a run-a
 round. Newcomers always welcome.\nIt’s a very relaxed morning where the mu
 ms get to chat and drink coffee… we also sing a few nursery rhymes so that
  we can pretend we’ve really come for the kids rather than to socialise an
 d get a caffeine hit! This is a really fun group that we are keen to keep 
 going.\nWe’ve also created a new group on Tuesday afternoons called Coffee
 \, Cake and Play so that our ‘graduates’ can still meet up. All ages are w
 elcome and many older and younger siblings will be coming too. If the chil
 dren want to we will also sing some nursery rhymes.\nPlease plan to arrive
  in time for a 9:45 a.m. start so parents with school-aged children are ab
 le to collect them from school.\nThank you very much!
DTSTART;TZID=Europe/Luxembourg:20200313T093000
DTEND;TZID=Europe/Luxembourg:20200313T110000
GEO:+49.65813;+6.14102
LOCATION:songtime @ Strassen
SEQUENCE:0
SUMMARY:Pipsqueaks – Morning
URL:http://www.blc.lu/event/pipsqueaks-morning-2/
X-COST-TYPE:free
X-ALT-DESC;FMTTYPE=text/html:<!DOCTYPE HTML PUBLIC '-//W3C//DTD HTML 3.2//E
 N'>\\n<HTML>\\n<HEAD>\\n<TITLE></TITLE>\\n</HEAD>\\n<BODY><p>Pipsqueaks is
  a group for parents to get together with their younger-aged children for 
 a sing-along session at a member’s home\, or sometimes we organise meet-up
 s somewhere outside for some fresh air and a run-around. Newcomers always 
 welcome.</p>\n<p>It’s a very relaxed morning where the mums get to chat an
 d drink coffee… we also sing a few nursery rhymes so that we can pretend w
 e’ve really come for the kids rather than to socialise and get a caffeine 
 hit! This is a really fun group that we are keen to keep going.</p>\n<p>We
 ’ve also created a new group on Tuesday afternoons called Coffee\, Cake an
 d Play so that our ‘graduates’ can still meet up. All ages are welcome and
  many older and younger siblings will be coming too. If the children want 
 to we will also sing some nursery rhymes.</p>\n<p>Please plan to arrive in
  time for a 9:45 a.m. start so parents with school-aged children are able 
 to collect them from school.</p>\n<p>Thank you very much!</p>\n<p style='t
 ext-align: left\;'>\n</BODY></HTML>
END:VEVENT
BEGIN:VEVENT
UID:ai1ec-8814@www.blc.lu
DTSTAMP:20210424T002512Z
CATEGORIES;LANGUAGE=en-GB:BLC Kids Event\,Children's Activities\,Songtime
CONTACT:Alice\; kids@blc.lu
DESCRIPTION:Pipsqueaks is a group for parents to get together with their yo
 unger-aged children for a sing-along session at a member’s home\, or somet
 imes we organise meet-ups somewhere outside for some fresh air and a run-a
 round. Newcomers always welcome.\nIt’s a very relaxed morning where the mu
 ms get to chat and drink coffee… we also sing a few nursery rhymes so that
  we can pretend we’ve really come for the kids rather than to socialise an
 d get a caffeine hit! This is a really fun group that we are keen to keep 
 going.\nWe’ve also created a new group on Tuesday afternoons called Coffee
 \, Cake and Play so that our ‘graduates’ can still meet up. All ages are w
 elcome and many older and younger siblings will be coming too. If the chil
 dren want to we will also sing some nursery rhymes.\nPlease plan to arrive
  in time for a 9:45 a.m. start so parents with school-aged children are ab
 le to collect them from school.\nThank you very much!\n 
DTSTART;TZID=Europe/Luxembourg:20200320T093000
DTEND;TZID=Europe/Luxembourg:20200320T110000
GEO:+49.608266;+6.051057
LOCATION:songtime @ Beggen
SEQUENCE:0
SUMMARY:Pipsqueaks – Morning
URL:http://www.blc.lu/event/pipsqueaks-morning-5/
X-COST-TYPE:free
X-ALT-DESC;FMTTYPE=text/html:<!DOCTYPE HTML PUBLIC '-//W3C//DTD HTML 3.2//E
 N'>\\n<HTML>\\n<HEAD>\\n<TITLE></TITLE>\\n</HEAD>\\n<BODY><p>Pipsqueaks is
  a group for parents to get together with their younger-aged children for 
 a sing-along session at a member’s home\, or sometimes we organise meet-up
 s somewhere outside for some fresh air and a run-around. Newcomers always 
 welcome.</p>\n<p>It’s a very relaxed morning where the mums get to chat an
 d drink coffee… we also sing a few nursery rhymes so that we can pretend w
 e’ve really come for the kids rather than to socialise and get a caffeine 
 hit! This is a really fun group that we are keen to keep going.</p>\n<p>We
 ’ve also created a new group on Tuesday afternoons called Coffee\, Cake an
 d Play so that our ‘graduates’ can still meet up. All ages are welcome and
  many older and younger siblings will be coming too. If the children want 
 to we will also sing some nursery rhymes.</p>\n<p style='text-align: left\
 ;'>Please plan to arrive in time for a 9:45 a.m. start so parents with sch
 ool-aged children are able to collect them from school.</p>\n<p style='tex
 t-align: left\;'>Thank you very much!</p>\n<p> </p>\n</BODY></HTML>
END:VEVENT
BEGIN:VEVENT
UID:ai1ec-8647@www.blc.lu
DTSTAMP:20210424T002512Z
CATEGORIES;LANGUAGE=en-GB:BLC Kids Event\,Children's Activities\,Songtime
CONTACT:Vicki\; kids@blc.lu
DESCRIPTION:Pipsqueaks is a group for parents to get together with their yo
 unger-aged children for a sing-along session at a member’s home\, or somet
 imes we organise meet-ups somewhere outside for some fresh air and a run-a
 round. Newcomers always welcome.\nIt’s a very relaxed morning where the mu
 ms get to chat and drink coffee… we also sing a few nursery rhymes so that
  we can pretend we’ve really come for the kids rather than to socialise an
 d get a caffeine hit! This is a really fun group that we are keen to keep 
 going.\nWe’ve also created a new group on Tuesday afternoons called Coffee
 \, Cake and Play so that our ‘graduates’ can still meet up. All ages are w
 elcome and many older and younger siblings will be coming too. If the chil
 dren want to we will also sing some nursery rhymes.\nPlease plan to arrive
  in time for a 9:45 a.m. start so parents with school-aged children are ab
 le to collect them from school.\nThank you very much!\n 
DTSTART;TZID=Europe/Luxembourg:20200327T093000
DTEND;TZID=Europe/Luxembourg:20200327T110000
GEO:+49.627869;+6.153422
LOCATION:songtime @ Helmsange
SEQUENCE:0
SUMMARY:Pipsqueaks – Morning
URL:http://www.blc.lu/event/pipsqueaks-morning-4/
X-COST-TYPE:free
X-ALT-DESC;FMTTYPE=text/html:<!DOCTYPE HTML PUBLIC '-//W3C//DTD HTML 3.2//E
 N'>\\n<HTML>\\n<HEAD>\\n<TITLE></TITLE>\\n</HEAD>\\n<BODY><p>Pipsqueaks is
  a group for parents to get together with their younger-aged children for 
 a sing-along session at a member’s home\, or sometimes we organise meet-up
 s somewhere outside for some fresh air and a run-around. Newcomers always 
 welcome.</p>\n<p>It’s a very relaxed morning where the mums get to chat an
 d drink coffee… we also sing a few nursery rhymes so that we can pretend w
 e’ve really come for the kids rather than to socialise and get a caffeine 
 hit! This is a really fun group that we are keen to keep going.</p>\n<p>We
 ’ve also created a new group on Tuesday afternoons called Coffee\, Cake an
 d Play so that our ‘graduates’ can still meet up. All ages are welcome and
  many older and younger siblings will be coming too. If the children want 
 to we will also sing some nursery rhymes.</p>\n<p style='text-align: left\
 ;'>Please plan to arrive in time for a 9:45 a.m. start so parents with sch
 ool-aged children are able to collect them from school.</p>\n<p style='tex
 t-align: left\;'>Thank you very much!</p>\n<p> </p>\n</BODY></HTML>
END:VEVENT
BEGIN:VEVENT
UID:ai1ec-50694@www.blc.lu
DTSTAMP:20210424T002512Z
CATEGORIES;LANGUAGE=en-GB:BLC Kids Event\,Children's Activities\,Songtime
CONTACT:Katy & George\; kids@blc.lu\; zoom.us/j/4661485797?pwd=SnJsMHJhMUxl
 cjNYcXkzbldlSnpzdz09
DESCRIPTION:Join us for virtual tick-tock sessions!\nJoin Zoom Meeting\nMee
 ting ID: 466 148 5797\nPasscode: 794488\nIf you have any questions contact
  us on: kids@blc.lu\nLet’s meet each other on zoom and sing nursery rhymes
  together. The parents / carers can also have a chat after our sing along.
DTSTART;TZID=Europe/Luxembourg:20210420T100000
DTEND;TZID=Europe/Luxembourg:20210420T104500
LOCATION:On Zoom! @ Download the 'Zoom' app CLICK on the 'event website' be
 low to join the Zoom meeting
RDATE;TZID=Europe/Luxembourg:20210427T100000
SEQUENCE:0
SUMMARY:Pipsqueaks Virtual Sing Along
URL:http://www.blc.lu/event/pipsqueaks-virtual-sing-along/
X-COST-TYPE:free
X-ALT-DESC;FMTTYPE=text/html:<!DOCTYPE HTML PUBLIC '-//W3C//DTD HTML 3.2//E
 N'>\\n<HTML>\\n<HEAD>\\n<TITLE></TITLE>\\n</HEAD>\\n<BODY><p>Join us for v
 irtual tick-tock sessions!</p>\n<p><a href='https://zoom.us/j/4661485797?p
 wd=SnJsMHJhMUxlcjNYcXkzbldISnpzdz09' target='_blank' rel='noopener'><stron
 g>Join Zoom Meeting</strong></a><br />\nMeeting ID: 466 148 5797<br />\nPa
 sscode: 794488</p>\n<p>If you have any questions contact us on: <a href='m
 ailto:kids@blc.lu'>kids@blc.lu</a></p>\n<p>Let’s meet each other on zoom a
 nd sing nursery rhymes together. The parents / carers can also have a chat
  after our sing along.</p>\n</BODY></HTML>
END:VEVENT
END:VCALENDAR
