BEGIN:VCALENDAR
VERSION:2.0
PRODID:-//89.238.170.93//NONSGML kigkonsult.se iCalcreator 2.26.9//
CALSCALE:GREGORIAN
METHOD:PUBLISH
X-FROM-URL:http://www.blc.lu
X-WR-TIMEZONE:Europe/Luxembourg
BEGIN:VTIMEZONE
TZID:Europe/Luxembourg
X-LIC-LOCATION:Europe/Luxembourg
BEGIN:STANDARD
DTSTART:20201025T030000
TZOFFSETFROM:+0200
TZOFFSETTO:+0100
RDATE:20211031T030000
TZNAME:CET
END:STANDARD
BEGIN:DAYLIGHT
DTSTART:20210328T020000
TZOFFSETFROM:+0100
TZOFFSETTO:+0200
RDATE:20220327T020000
TZNAME:CEST
END:DAYLIGHT
END:VTIMEZONE
BEGIN:VEVENT
UID:ai1ec-8639@www.blc.lu
DTSTAMP:20210424T002730Z
CATEGORIES;LANGUAGE=en-GB:Area Rep &amp\; Member Events\,Sport\,Tennis
CONTACT:Wendy DUNNING
DESCRIPTION:The Summer Season is 1st May to 30th September\nWe have several
  courts provisionally booked for the summer season. The courts are inside 
 with the possibility to play outside\, weather permitting.\nCost will depe
 nd on numbers but should not exceed 50 €.\nIf you wish to be included plea
 se contact me as soon as possible.
DTSTART;TZID=Europe/Luxembourg:20180501T100000
DTEND;TZID=Europe/Luxembourg:20180501T120000
LOCATION:Arquebusiers Tennis Club @ 142 Val Ste. Croix\, Bel-Air\, L-1370
RRULE:FREQ=WEEKLY;UNTIL=20180930T235959Z;BYDAY=WE;WKST=SU
SEQUENCE:0
SUMMARY:Tennis Summer Season
URL:http://www.blc.lu/event/tennis-summer-season-2/
X-COST-TYPE:free
X-ALT-DESC;FMTTYPE=text/html:<!DOCTYPE HTML PUBLIC '-//W3C//DTD HTML 3.2//E
 N'>\\n<HTML>\\n<HEAD>\\n<TITLE></TITLE>\\n</HEAD>\\n<BODY><p style='text-a
 lign: left\;'>The Summer Season is 1st May to 30th September</p>\n<p style
 ='text-align: left\;'>We have several courts provisionally booked for the 
 summer season. The courts are inside with the possibility to play outside\
 , weather permitting.</p>\n<p style='text-align: left\;'>Cost will depend 
 on numbers but should not exceed 50 €.</p>\n<p style='text-align: left\;'>
 If you wish to be included please contact me as soon as possible.</p>\n</B
 ODY></HTML>
END:VEVENT
BEGIN:VEVENT
UID:ai1ec-33781@www.blc.lu
DTSTAMP:20210424T002730Z
CATEGORIES;LANGUAGE=en-GB:Area Rep &amp\; Member Events\,Sport\,Tennis
CONTACT:Wendy Dunning-Baker
DESCRIPTION:Ladies’ Doubles will be played on Wednesdays from 10:00 to 12:0
 0hr and 10:00 to 11:00hr\nIf you are interested in joining the group pleas
 e contact me by 14th September (if you have not already done so)\nCost for
  WHOLE season will be less than 50.00€/hour\, depending on numbers.\nWendy
  Dunning-Baker\n \n \n \n 
DTSTART;TZID=Europe/Luxembourg:20201007T100000
DTEND;TZID=Europe/Luxembourg:20201007T120000
LOCATION:Arquebusiers Tennis Club @ 142 Val Ste. Croix\, Bel-Air\, L-1370
RRULE:FREQ=WEEKLY;UNTIL=20210430T235959Z;BYDAY=WE;WKST=SU
SEQUENCE:0
SUMMARY:BLC Tennis Group – Winter Season 2020-2021
URL:http://www.blc.lu/event/blc-tennis-group-winter-season-2020-2021/
X-COST-TYPE:free
X-ALT-DESC;FMTTYPE=text/html:<!DOCTYPE HTML PUBLIC '-//W3C//DTD HTML 3.2//E
 N'>\\n<HTML>\\n<HEAD>\\n<TITLE></TITLE>\\n</HEAD>\\n<BODY><p>Ladies’ Doubl
 es will be played on Wednesdays from <strong>10:00 to 12:00hr</strong> and
  <strong>10:00 to 11:00hr</strong></p>\n<p>If you are interested in joinin
 g the group please contact me by 14th September (if you have not already d
 one so)</p>\n<p>Cost for <strong>WHOLE season</strong> will be less than <
 strong>50.00€/hour</strong>\, depending on numbers.</p>\n<p>Wendy Dunning-
 Baker</p>\n<p> </p>\n<p> </p>\n<p> </p>\n<p> </p>\n</BODY></HTML>
END:VEVENT
END:VCALENDAR
