BEGIN:VCALENDAR
VERSION:2.0
PRODID:-//195.8.196.23//NONSGML kigkonsult.se iCalcreator 2.26.9//
CALSCALE:GREGORIAN
METHOD:PUBLISH
X-WR-CALNAME:British Ladies Club of Luxembourg
X-WR-CALDESC:Social Networking for the International Community
X-FROM-URL:http://www.blc.lu
X-WR-TIMEZONE:Europe/Luxembourg
BEGIN:VTIMEZONE
TZID:Europe/Luxembourg
X-LIC-LOCATION:Europe/Luxembourg
BEGIN:STANDARD
DTSTART:20191027T030000
TZOFFSETFROM:+0200
TZOFFSETTO:+0100
RDATE:20201025T030000
TZNAME:CET
END:STANDARD
BEGIN:DAYLIGHT
DTSTART:20190331T020000
TZOFFSETFROM:+0100
TZOFFSETTO:+0200
RDATE:20200329T020000
TZNAME:CEST
END:DAYLIGHT
END:VTIMEZONE
BEGIN:VEVENT
UID:ai1ec-9862@www.blc.lu
DTSTAMP:20190823T152534Z
CATEGORIES;LANGUAGE=en-GB:Drinks\,Social\,Swimming
CONTACT:Moira Hogg and Kim Clarke\; Area K reps\; www.syrdall-schwemm.lu
DESCRIPTION:Join us for a swim in the beautiful heated outdoor pool at Nied
 eranven\, and a drink or something to eat in the bistro afterwards!\n Frid
 ay\, 10th March\, from 7 pm\nIf you would like more details please contact
  us\nAll Areas welcome!\n 
DTSTART;TZID=Europe/Luxembourg:20170310T190000
GEO:+40.566476;-105.098876
LOCATION:Syrdall Schwemm @ Niederanven
SEQUENCE:0
SUMMARY:Moonlight Swim
URL:http://www.blc.lu/event/moonlight-swim/
X-COST-TYPE:free
X-ALT-DESC;FMTTYPE=text/html:<!DOCTYPE HTML PUBLIC '-//W3C//DTD HTML 3.2//E
 N'>\\n<HTML>\\n<HEAD>\\n<TITLE></TITLE>\\n</HEAD>\\n<BODY><p>Join us for a
  swim in the beautiful heated outdoor pool at Niederanven\, and a drink or
  something to eat in the bistro afterwards!</p>\n<p><b> Friday\, 10th Marc
 h\, from 7 pm</b></p>\n<p>If you would like more details please contact us
 </p>\n<p>All Areas welcome!</p>\n<p> </p>\n</BODY></HTML>
X-INSTANT-EVENT:1
END:VEVENT
END:VCALENDAR
