BEGIN:VCALENDAR
VERSION:2.0
PRODID:-//195.8.196.23//NONSGML kigkonsult.se iCalcreator 2.26.9//
CALSCALE:GREGORIAN
METHOD:PUBLISH
X-WR-CALNAME:British Ladies Club of Luxembourg
X-WR-CALDESC:Social Networking for the International Community
X-FROM-URL:http://www.blc.lu
X-WR-TIMEZONE:Europe/Luxembourg
BEGIN:VTIMEZONE
TZID:Europe/Luxembourg
X-LIC-LOCATION:Europe/Luxembourg
BEGIN:STANDARD
DTSTART:20191027T030000
TZOFFSETFROM:+0200
TZOFFSETTO:+0100
RDATE:20201025T030000
TZNAME:CET
END:STANDARD
BEGIN:DAYLIGHT
DTSTART:20190331T020000
TZOFFSETFROM:+0100
TZOFFSETTO:+0200
RDATE:20200329T020000
TZNAME:CEST
END:DAYLIGHT
END:VTIMEZONE
BEGIN:VEVENT
UID:ai1ec-9859@www.blc.lu
DTSTAMP:20190823T152630Z
CATEGORIES;LANGUAGE=en-GB:Drinks\,Social\,Workshop
CONTACT:Julie Chare\; Area A rep
DESCRIPTION:Hazel\, an Area A member and a Chiropractor\, will give an info
 rmal talk about this branch of medicine. This will be combined with a chee
 se and wine evening.\nThursday\, 30th March\, 7 pm\nIf you are interested 
 in attending please contact Julie Chare\n 
DTSTART;TZID=Europe/Luxembourg:20170330T190000
SEQUENCE:0
SUMMARY:A Talk on Chiropractic
URL:http://www.blc.lu/event/a-talk-on-chiropractic/
X-COST-TYPE:free
X-ALT-DESC;FMTTYPE=text/html:<!DOCTYPE HTML PUBLIC '-//W3C//DTD HTML 3.2//E
 N'>\\n<HTML>\\n<HEAD>\\n<TITLE></TITLE>\\n</HEAD>\\n<BODY><p>Hazel\, an Ar
 ea A member and a Chiropractor\, will give an informal talk about this bra
 nch of medicine. This will be combined with a cheese and wine evening.</p>
 \n<p><b>Thursday\, 30th March\, 7 pm</b></p>\n<p>If you are interested in 
 attending please contact Julie Chare</p>\n<p> </p>\n</BODY></HTML>
X-INSTANT-EVENT:1
END:VEVENT
END:VCALENDAR
