BEGIN:VCALENDAR
VERSION:2.0
PRODID:-//195.8.196.23//NONSGML kigkonsult.se iCalcreator 2.26.9//
CALSCALE:GREGORIAN
METHOD:PUBLISH
X-WR-CALNAME:British Ladies Club of Luxembourg
X-WR-CALDESC:Social Networking for the International Community
X-FROM-URL:http://www.blc.lu
X-WR-TIMEZONE:Europe/Luxembourg
BEGIN:VTIMEZONE
TZID:Europe/Luxembourg
X-LIC-LOCATION:Europe/Luxembourg
BEGIN:STANDARD
DTSTART:20191027T030000
TZOFFSETFROM:+0200
TZOFFSETTO:+0100
RDATE:20201025T030000
TZNAME:CET
END:STANDARD
BEGIN:DAYLIGHT
DTSTART:20190331T020000
TZOFFSETFROM:+0100
TZOFFSETTO:+0200
RDATE:20200329T020000
TZNAME:CEST
END:DAYLIGHT
END:VTIMEZONE
BEGIN:VEVENT
UID:ai1ec-9793@www.blc.lu
DTSTAMP:20190823T152504Z
CATEGORIES;LANGUAGE=en-GB:Charity Event\,Coffee\,Social
CONTACT:Philippa Wilson\; chair@blc.lu
DESCRIPTION:Dementia UK’s fundraising week in early March is known as ‘Time
  for a Cuppa’ so we thought we would hold our very own event on Thursday 2
 nd March 9.30am – 12 noon at Philippa’s house.\nPlease note we will be rai
 sing funds in support of both our chosen BLC charities for 2017 – Dementia
  UK and Luxembourg Air Rescue.\nIf you can drop by for a cup of tea/coffee
  and a slice of cake then please email Philippa chair@blc.lu\nWe will be s
 elling home baked cakes and second hand books to raise funds. Becky (Greet
 ings from Becky) will also have her lovely greetings cards and wrapping pa
 per available for sale\, and has pledged to make a donation from the card 
 sales she makes on the morning.\nIf you are able to bring a home baked cak
 e to be sold or a few good books\, that are a good read\, donations will b
 e gratefully received.
DTSTART;TZID=Europe/Luxembourg:20170302T093000
DTEND;TZID=Europe/Luxembourg:20170302T120000
SEQUENCE:0
SUMMARY:Time for a Cuppa
URL:http://www.blc.lu/event/time-for-a-cuppa/
X-COST-TYPE:free
X-ALT-DESC;FMTTYPE=text/html:<!DOCTYPE HTML PUBLIC '-//W3C//DTD HTML 3.2//E
 N'>\\n<HTML>\\n<HEAD>\\n<TITLE></TITLE>\\n</HEAD>\\n<BODY><p>Dementia UK’s
  fundraising week in early March is known as ‘Time for a Cuppa’ so we thou
 ght we would hold our very own event on Thursday 2nd March 9.30am – 12 noo
 n at Philippa’s house.</p>\n<p>Please note we will be raising funds in sup
 port of both our chosen <span style='color: #ff6600\;'><a style='color: #f
 f6600\;' href='http://www.blc.lu/welcome-to-the-blc-2/about-us/'>BLC chari
 ties for 2017</a></span> – Dementia UK and Luxembourg Air Rescue.</p>\n<p>
 If you can drop by for a cup of tea/coffee and a slice of cake then please
  email Philippa <a href='mailto:chair@blc.lu'>chair@blc.lu</a></p>\n<p>We 
 will be selling home baked cakes and second hand books to raise funds. Bec
 ky (Greetings from Becky) will also have her lovely greetings cards and wr
 apping paper available for sale\, and has pledged to make a donation from 
 the card sales she makes on the morning.</p>\n<p>If you are able to bring 
 a home baked cake to be sold or a few good books\, that are a good read\, 
 donations will be gratefully received.</p>\n</BODY></HTML>
END:VEVENT
END:VCALENDAR
