BEGIN:VCALENDAR
VERSION:2.0
PRODID:-//195.8.196.23//NONSGML kigkonsult.se iCalcreator 2.26.9//
CALSCALE:GREGORIAN
METHOD:PUBLISH
X-WR-CALNAME:British Ladies Club of Luxembourg
X-WR-CALDESC:Social Networking for the International Community
X-FROM-URL:http://www.blc.lu
X-WR-TIMEZONE:Europe/Luxembourg
BEGIN:VTIMEZONE
TZID:Europe/Luxembourg
X-LIC-LOCATION:Europe/Luxembourg
BEGIN:STANDARD
DTSTART:20191027T030000
TZOFFSETFROM:+0200
TZOFFSETTO:+0100
RDATE:20201025T030000
TZNAME:CET
END:STANDARD
BEGIN:DAYLIGHT
DTSTART:20190331T020000
TZOFFSETFROM:+0100
TZOFFSETTO:+0200
RDATE:20200329T020000
TZNAME:CEST
END:DAYLIGHT
END:VTIMEZONE
BEGIN:VEVENT
UID:ai1ec-9722@www.blc.lu
DTSTAMP:20190823T152346Z
CATEGORIES;LANGUAGE=en-GB:Music Concert\,Social
CONTACT:Nuala Convery\; Area P rep\; www.neimenster.lu/Culture
DESCRIPTION:Brighten up your morning with Apéro’s Jazz at the Abbaye de Neu
 munster.\nSunday\, 5th February at 11 am\nwww.neimenster.lu/Culture\nEntra
 nce is free.\nPlease let me know in advance if you would like to come and 
 we can arrange where to meet. All areas welcome\, of course!\nRSVP: to Nua
 la (Area P) by Tuesday 7th Feb.
DTSTART;TZID=Europe/Luxembourg:20170205T110000
LOCATION:Apéro’s Jazz @ Abbaye de Neumunster
SEQUENCE:0
SUMMARY:Jazz morning
URL:http://www.blc.lu/event/jazz-morning/
X-COST-TYPE:free
X-ALT-DESC;FMTTYPE=text/html:<!DOCTYPE HTML PUBLIC '-//W3C//DTD HTML 3.2//E
 N'>\\n<HTML>\\n<HEAD>\\n<TITLE></TITLE>\\n</HEAD>\\n<BODY><p>Brighten up y
 our morning with Apéro’s Jazz at the Abbaye de Neumunster.</p>\n<p><b>Sund
 ay\, 5th February at 11 am</b></p>\n<p>www.neimenster.lu/Culture</p>\n<p>E
 ntrance is free.</p>\n<p>Please let me know in advance if you would like t
 o come and we can arrange where to meet. All areas welcome\, of course!</p
 >\n<p>RSVP: to Nuala (Area P) by Tuesday 7th Feb.</p>\n</BODY></HTML>
X-INSTANT-EVENT:1
END:VEVENT
END:VCALENDAR
