BEGIN:VCALENDAR
VERSION:2.0
PRODID:-//195.8.196.23//NONSGML kigkonsult.se iCalcreator 2.26.9//
CALSCALE:GREGORIAN
METHOD:PUBLISH
X-WR-CALNAME:British Ladies Club of Luxembourg
X-WR-CALDESC:Social Networking for the International Community
X-FROM-URL:http://www.blc.lu
X-WR-TIMEZONE:Europe/Luxembourg
BEGIN:VTIMEZONE
TZID:Europe/Luxembourg
X-LIC-LOCATION:Europe/Luxembourg
BEGIN:STANDARD
DTSTART:20191027T030000
TZOFFSETFROM:+0200
TZOFFSETTO:+0100
RDATE:20201025T030000
TZNAME:CET
END:STANDARD
BEGIN:DAYLIGHT
DTSTART:20190331T020000
TZOFFSETFROM:+0100
TZOFFSETTO:+0200
RDATE:20200329T020000
TZNAME:CEST
END:DAYLIGHT
END:VTIMEZONE
BEGIN:VEVENT
UID:ai1ec-9452@www.blc.lu
DTSTAMP:20190823T152321Z
CATEGORIES;LANGUAGE=en-GB:Drinks\,Lunch / Dinner\,Social
CONTACT:Cherry Hooper & Enid Isaac\; Area H rep\; http://distilleriemlc.lu/
 Distillerie_Muller_Lemmer/Accueil.html
DESCRIPTION:Join us for a guided tour of the distillery (in English) and so
 me tasting! We will head to Conterstuff for lunch afterwards.\n Friday\, 2
 7th January at 10.30 am\n1 rue de Moutfort\, L-5310 Contern\nAll areas mos
 t welcome\, as always.\nIf interested\, please email either Cherry or Enid
  (Area H) by January 25th\, so we can  confirm numbers.\n \n 
DTSTART;TZID=Europe/Luxembourg:20170127T103000
LOCATION:Muller-Lemmer @ 1 rue de Moutfort\, L-5310 Contern
SEQUENCE:0
SUMMARY:Tour and Tasting  at Distillerie Muller-Lemmer
URL:http://www.blc.lu/event/tour-and-tasting-at-distillerie-muller-lemmer/
X-COST-TYPE:free
X-ALT-DESC;FMTTYPE=text/html:<!DOCTYPE HTML PUBLIC '-//W3C//DTD HTML 3.2//E
 N'>\\n<HTML>\\n<HEAD>\\n<TITLE></TITLE>\\n</HEAD>\\n<BODY><p>Join us for a
  guided tour of the distillery (in English) and some tasting! We will head
  to Conterstuff for lunch afterwards.</p>\n<p><b> Friday\, 27th January at
  10.30 am</b></p>\n<p>1 rue de Moutfort\, L-5310 Contern</p>\n<p>All areas
  most welcome\, as always.</p>\n<p>If interested\, please email either Che
 rry or Enid (Area H) by January 25th\, so we can  confirm numbers.</p>\n<p
 > </p>\n<p> </p>\n</BODY></HTML>
X-INSTANT-EVENT:1
END:VEVENT
END:VCALENDAR
