BEGIN:VCALENDAR
VERSION:2.0
PRODID:-//195.8.196.23//NONSGML kigkonsult.se iCalcreator 2.26.9//
CALSCALE:GREGORIAN
METHOD:PUBLISH
X-WR-CALNAME:British Ladies Club of Luxembourg
X-WR-CALDESC:Social Networking for the International Community
X-FROM-URL:http://www.blc.lu
X-WR-TIMEZONE:Europe/Luxembourg
BEGIN:VTIMEZONE
TZID:Europe/Luxembourg
X-LIC-LOCATION:Europe/Luxembourg
BEGIN:STANDARD
DTSTART:20191027T030000
TZOFFSETFROM:+0200
TZOFFSETTO:+0100
RDATE:20201025T030000
TZNAME:CET
END:STANDARD
BEGIN:DAYLIGHT
DTSTART:20190331T020000
TZOFFSETFROM:+0100
TZOFFSETTO:+0200
RDATE:20200329T020000
TZNAME:CEST
END:DAYLIGHT
END:VTIMEZONE
BEGIN:VEVENT
UID:ai1ec-9325@www.blc.lu
DTSTAMP:20190823T152758Z
CATEGORIES;LANGUAGE=en-GB:Children's Activities\,Play Park
CONTACT:Miriam Scargall\; kids@blc.lu
DESCRIPTION:The playground is located next to the museum and has plenty of 
 free parking. There are lots of things to play with and climb on\, and a n
 ice sandpit with diggers that continue the mining theme.\nHosted by Miriam
 . No need to RSVP\, feel free to come along on the spur of the moment. If 
 you need any further information or directions please get in touch on kids
 @blc.lu.\n \n 
DTSTART;TZID=Europe/Luxembourg:20170606T140000
LOCATION:National Mining Museum playground @ Rumelange
SEQUENCE:0
SUMMARY:National Mining Museum playground
URL:http://www.blc.lu/event/animal-park-galgenberg/
X-COST-TYPE:free
X-ALT-DESC;FMTTYPE=text/html:<!DOCTYPE HTML PUBLIC '-//W3C//DTD HTML 3.2//E
 N'>\\n<HTML>\\n<HEAD>\\n<TITLE></TITLE>\\n</HEAD>\\n<BODY><p>The playgroun
 d is located next to the museum and has plenty of free parking. There are 
 lots of things to play with and climb on\, and a nice sandpit with diggers
  that continue the mining theme.</p>\n<p>Hosted by Miriam. No need to RSVP
 \, feel free to come along on the spur of the moment. If you need any furt
 her information or directions please get in touch on <a href='mailto:kids@
 blc.lu'>kids@blc.lu</a>.</p>\n<p> </p>\n<p> </p>\n</BODY></HTML>
X-INSTANT-EVENT:1
END:VEVENT
END:VCALENDAR
