BEGIN:VCALENDAR
VERSION:2.0
PRODID:-//195.8.196.23//NONSGML kigkonsult.se iCalcreator 2.26.9//
CALSCALE:GREGORIAN
METHOD:PUBLISH
X-WR-CALNAME:British Ladies Club of Luxembourg
X-WR-CALDESC:Social Networking for the International Community
X-FROM-URL:http://www.blc.lu
X-WR-TIMEZONE:Europe/Luxembourg
BEGIN:VTIMEZONE
TZID:Europe/Luxembourg
X-LIC-LOCATION:Europe/Luxembourg
BEGIN:STANDARD
DTSTART:20191027T030000
TZOFFSETFROM:+0200
TZOFFSETTO:+0100
RDATE:20201025T030000
TZNAME:CET
END:STANDARD
BEGIN:DAYLIGHT
DTSTART:20190331T020000
TZOFFSETFROM:+0100
TZOFFSETTO:+0200
RDATE:20200329T020000
TZNAME:CEST
END:DAYLIGHT
END:VTIMEZONE
BEGIN:VEVENT
UID:ai1ec-9312@www.blc.lu
DTSTAMP:20190823T152152Z
CATEGORIES;LANGUAGE=en-GB:Drinks\,Social
CONTACT:Sandra VON ESEBECK\; Area J rep\; http://www.suite-au-chocolat.de/
DESCRIPTION:Join us for lunch and/or some delicious hot chocolate either be
 fore or after visiting the Christmas market. Area J and all other areas we
 lcome\nFriday\, 2nd December\n12.30 onwards\nSUITE AU CHOCOLAT\,  Glockens
 trasse\, Trier\nLet me know if you can make it so I can reserve a table:\n
  
DTSTART;TZID=Europe/Luxembourg:20161202T123000
LOCATION:Suite au Chocolat @ Glockenstrasse\, Trier
SEQUENCE:0
SUMMARY:Trier Christmas Market
URL:http://www.blc.lu/event/trier-christmas-market/
X-COST-TYPE:free
X-ALT-DESC;FMTTYPE=text/html:<!DOCTYPE HTML PUBLIC '-//W3C//DTD HTML 3.2//E
 N'>\\n<HTML>\\n<HEAD>\\n<TITLE></TITLE>\\n</HEAD>\\n<BODY><p>Join us for l
 unch and/or some delicious hot chocolate either before or after visiting t
 he Christmas market. Area J and all other areas welcome</p>\n<p><b>Friday\
 , 2nd December</b></p>\n<p><b>12.30 onwards</b></p>\n<p>SUITE AU CHOCOLAT\
 ,  Glockenstrasse\, Trier</p>\n<p>Let me know if you can make it so I can 
 reserve a table:</p>\n<p> </p>\n</BODY></HTML>
X-INSTANT-EVENT:1
END:VEVENT
END:VCALENDAR
