BEGIN:VCALENDAR
VERSION:2.0
PRODID:-//195.8.196.23//NONSGML kigkonsult.se iCalcreator 2.26.9//
CALSCALE:GREGORIAN
METHOD:PUBLISH
X-WR-CALNAME:British Ladies Club of Luxembourg
X-WR-CALDESC:Social Networking for the International Community
X-FROM-URL:http://www.blc.lu
X-WR-TIMEZONE:Europe/Luxembourg
BEGIN:VTIMEZONE
TZID:Europe/Luxembourg
X-LIC-LOCATION:Europe/Luxembourg
BEGIN:STANDARD
DTSTART:20191027T030000
TZOFFSETFROM:+0200
TZOFFSETTO:+0100
RDATE:20201025T030000
TZNAME:CET
END:STANDARD
BEGIN:DAYLIGHT
DTSTART:20190331T020000
TZOFFSETFROM:+0100
TZOFFSETTO:+0200
RDATE:20200329T020000
TZNAME:CEST
END:DAYLIGHT
END:VTIMEZONE
BEGIN:VEVENT
UID:ai1ec-9311@www.blc.lu
DTSTAMP:20190823T152256Z
CATEGORIES;LANGUAGE=en-GB:Drinks\,Social
CONTACT:Cherry Hooper & Enid Isaac\; Area H rep
DESCRIPTION:Area H will meet at the entrance of the ‘Patinoire’ Christmas m
 arkets in Remich for a festive mug or two of hot glühwein. Meet at Remich 
 – Place Dr F. Kons.\nFriday\, 16th December at 8pm\nAll areas most welcome
 \, as always.\nContact Cherry or Enid with any questions.\n \n 
DTSTART;TZID=Europe/Luxembourg:20161216T200000
LOCATION:Patinoire @ Remich
SEQUENCE:0
SUMMARY:Christmas Market at Remich
URL:http://www.blc.lu/event/christmas-market-at-remich/
X-COST-TYPE:free
X-ALT-DESC;FMTTYPE=text/html:<!DOCTYPE HTML PUBLIC '-//W3C//DTD HTML 3.2//E
 N'>\\n<HTML>\\n<HEAD>\\n<TITLE></TITLE>\\n</HEAD>\\n<BODY><p>Area H will m
 eet at the entrance of the ‘Patinoire’ Christmas markets in Remich for a f
 estive mug or two of hot glühwein. Meet at Remich – Place Dr F. Kons.</p>
 \n<p><b>Friday\, 16th December at 8pm</b></p>\n<p>All areas most welcome\,
  as always.</p>\n<p>Contact Cherry or Enid with any questions.</p>\n<p> </
 p>\n<p> </p>\n</BODY></HTML>
X-INSTANT-EVENT:1
END:VEVENT
END:VCALENDAR
