BEGIN:VCALENDAR
VERSION:2.0
PRODID:-//195.8.196.23//NONSGML kigkonsult.se iCalcreator 2.26.9//
CALSCALE:GREGORIAN
METHOD:PUBLISH
X-WR-CALNAME:British Ladies Club of Luxembourg
X-WR-CALDESC:Social Networking for the International Community
X-FROM-URL:http://www.blc.lu
X-WR-TIMEZONE:Europe/Luxembourg
BEGIN:VTIMEZONE
TZID:Europe/Luxembourg
X-LIC-LOCATION:Europe/Luxembourg
BEGIN:STANDARD
DTSTART:20191027T030000
TZOFFSETFROM:+0200
TZOFFSETTO:+0100
RDATE:20201025T030000
TZNAME:CET
END:STANDARD
BEGIN:DAYLIGHT
DTSTART:20190331T020000
TZOFFSETFROM:+0100
TZOFFSETTO:+0200
RDATE:20200329T020000
TZNAME:CEST
END:DAYLIGHT
END:VTIMEZONE
BEGIN:VEVENT
UID:ai1ec-9309@www.blc.lu
DTSTAMP:20190823T153009Z
CATEGORIES;LANGUAGE=en-GB:Lunch / Dinner\,Social
CONTACT:Nuala Convery\; Area P rep\; area-p@blc.lu\; https://www.facebook.c
 om/La-Mani%C3%A8re-des-P-I-G-S-939662859415306/
DESCRIPTION:To be held at La Maniere des PIGS (Portugal\, Italy\, Greece\, 
 Spain) in the centre of Luxembourg.\nFriday 13th October\, from 12.30 \nPl
 ease contact Nuala (Area P) on area-p@blc.lu by Wednesday 11 October\, if 
 possible. Other areas welcome!\n \n \n 
DTSTART;TZID=Europe/Luxembourg:20171013T123000
LOCATION:La Maniere des PIGS  @ 56 Grand Rue (Galerie Beaumont)\, L-1660
SEQUENCE:0
SUMMARY:Join us for Lunch
URL:http://www.blc.lu/event/join-us-for-lunch/
X-COST-TYPE:free
X-ALT-DESC;FMTTYPE=text/html:<!DOCTYPE HTML PUBLIC '-//W3C//DTD HTML 3.2//E
 N'>\\n<HTML>\\n<HEAD>\\n<TITLE></TITLE>\\n</HEAD>\\n<BODY><p>To be held at
  La Maniere des PIGS (Portugal\, Italy\, Greece\, Spain) in the centre of 
 Luxembourg.</p>\n<p><b>Friday 13th October\, from 12.30 </b></p>\n<p>Pleas
 e contact Nuala (Area P) on <a href='mailto:area-p@blc.lu'>area-p@blc.lu</
 a> by Wednesday 11 October\, if possible. Other areas welcome!</p>\n<p> </
 p>\n<p> </p>\n<p> </p>\n</BODY></HTML>
X-INSTANT-EVENT:1
END:VEVENT
END:VCALENDAR
