BEGIN:VCALENDAR
VERSION:2.0
PRODID:-//195.8.196.23//NONSGML kigkonsult.se iCalcreator 2.26.9//
CALSCALE:GREGORIAN
METHOD:PUBLISH
X-WR-CALNAME:British Ladies Club of Luxembourg
X-WR-CALDESC:Social Networking for the International Community
X-FROM-URL:http://www.blc.lu
X-WR-TIMEZONE:Europe/Luxembourg
BEGIN:VTIMEZONE
TZID:Europe/Luxembourg
X-LIC-LOCATION:Europe/Luxembourg
BEGIN:STANDARD
DTSTART:20191027T030000
TZOFFSETFROM:+0200
TZOFFSETTO:+0100
RDATE:20201025T030000
TZNAME:CET
END:STANDARD
BEGIN:DAYLIGHT
DTSTART:20190331T020000
TZOFFSETFROM:+0100
TZOFFSETTO:+0200
RDATE:20200329T020000
TZNAME:CEST
END:DAYLIGHT
END:VTIMEZONE
BEGIN:VEVENT
UID:ai1ec-9304@www.blc.lu
DTSTAMP:20190823T152946Z
CATEGORIES;LANGUAGE=en-GB:Music Concert\,Social
CONTACT:Steffie BOS and Linda WYNNE-WILLIAMS\; https://www.philharmonie.lu/
 en/programm/series/lunch-concerts/233
DESCRIPTION:On Tuesday\, 10th October there is a free concert at 12.30 in t
 he Philharmonie\, Kirchberg. It features Danças Ocultas\, Artur Fernandes\
 , Filipe Ricardo and Francisco Miguel (accordion diatonique).\nLunch shoul
 d be booked in advance (e-mail: lunch@philharmonie.lu or phone 2632 2632).
  If you would like to join us for the concert\, we meet around 12:15 at th
 e Info-desk near the main entrance.\nPlease come and join us for a chat wi
 th friends old and new.\nAs usual\, if anybody has any ideas for any outin
 gs\, please let us know. It is good to have your feedback\, and perhaps go
  somewhere different that you might fancy.\nCould you please send any sugg
 estions or requests to attend events to us both.
DTSTART;TZID=Europe/Luxembourg:20171010T121500
LOCATION:Philharmonie @ Kirchberg
SEQUENCE:0
SUMMARY:Freewheelers – Concert
URL:http://www.blc.lu/event/freewheelers-concert-3/
X-COST-TYPE:free
X-ALT-DESC;FMTTYPE=text/html:<!DOCTYPE HTML PUBLIC '-//W3C//DTD HTML 3.2//E
 N'>\\n<HTML>\\n<HEAD>\\n<TITLE></TITLE>\\n</HEAD>\\n<BODY><p>On <strong>Tu
 esday\, 10th October</strong> there is a free concert at 12.30 in the Phil
 harmonie\, Kirchberg. It features Danças Ocultas\, Artur Fernandes\, Filip
 e Ricardo and Francisco Miguel (accordion diatonique).</p>\n<p>Lunch shoul
 d be booked in advance (e-mail: <a href='mailto:lunch@philharmonie.lu'>lun
 ch@philharmonie.lu</a> or phone 2632 2632). If you would like to join us f
 or the concert\, we meet around 12:15 at the Info-desk near the main entra
 nce.</p>\n<p style='text-align: left\;'>Please come and join us for a chat
  with friends old and new.</p>\n<p style='text-align: left\;'>As usual\, i
 f anybody has any ideas for any outings\, please let us know. It is good t
 o have your feedback\, and perhaps go somewhere different that you might f
 ancy.</p>\n<p style='text-align: left\;'>Could you please send any suggest
 ions or requests to attend events to us both.</p>\n</BODY></HTML>
X-INSTANT-EVENT:1
END:VEVENT
END:VCALENDAR
