BEGIN:VCALENDAR
VERSION:2.0
PRODID:-//195.8.196.23//NONSGML kigkonsult.se iCalcreator 2.26.9//
CALSCALE:GREGORIAN
METHOD:PUBLISH
X-WR-CALNAME:British Ladies Club of Luxembourg
X-WR-CALDESC:Social Networking for the International Community
X-FROM-URL:http://www.blc.lu
X-WR-TIMEZONE:Europe/Luxembourg
BEGIN:VTIMEZONE
TZID:Europe/Luxembourg
X-LIC-LOCATION:Europe/Luxembourg
BEGIN:STANDARD
DTSTART:20191027T030000
TZOFFSETFROM:+0200
TZOFFSETTO:+0100
RDATE:20201025T030000
TZNAME:CET
END:STANDARD
BEGIN:DAYLIGHT
DTSTART:20190331T020000
TZOFFSETFROM:+0100
TZOFFSETTO:+0200
RDATE:20200329T020000
TZNAME:CEST
END:DAYLIGHT
END:VTIMEZONE
BEGIN:VEVENT
UID:ai1ec-9224@www.blc.lu
DTSTAMP:20190823T153032Z
CATEGORIES;LANGUAGE=en-GB:BLC Events\,Lunch / Dinner
CONTACT:Enid\; Area H rep\; area-h@blc.lu\; hhttp://restaurant-scaramouche.
 lu/
DESCRIPTION:An evening get-together for the many ladies who work and can’t 
 get to the lunch meetings.\n Wednesday 18th October\, 7.30pm\nAll areas we
 lcome.\nPlease contact Enid Isaac at area-h@blc.lu if you would like to jo
 in us.\n 
DTSTART;TZID=Europe/Luxembourg:20171018T193000
LOCATION:Scaramouche @ 7 Route de Remich\, 5423 Ersange\, Luxembourg
SEQUENCE:0
SUMMARY:Dinner for Night Owls
URL:http://www.blc.lu/event/dinner-for-night-owls/
X-COST-TYPE:free
X-ALT-DESC;FMTTYPE=text/html:<!DOCTYPE HTML PUBLIC '-//W3C//DTD HTML 3.2//E
 N'>\\n<HTML>\\n<HEAD>\\n<TITLE></TITLE>\\n</HEAD>\\n<BODY><p>An evening ge
 t-together for the many ladies who work and can’t get to the lunch meeting
 s.</p>\n<p><b> </b><b>Wednesday 18th October\, </b><b>7.30pm</b></p>\n<p>A
 ll areas welcome.</p>\n<p>Please contact Enid Isaac at <a href='mailto:are
 a-h@blc.lu'>area-h@blc.lu</a> if you would like to join us.</p>\n<p> </p>
 \n</BODY></HTML>
X-INSTANT-EVENT:1
END:VEVENT
END:VCALENDAR
