BEGIN:VCALENDAR
VERSION:2.0
PRODID:-//195.8.196.23//NONSGML kigkonsult.se iCalcreator 2.26.9//
CALSCALE:GREGORIAN
METHOD:PUBLISH
X-WR-CALNAME:British Ladies Club of Luxembourg
X-WR-CALDESC:Social Networking for the International Community
X-FROM-URL:http://www.blc.lu
X-WR-TIMEZONE:Europe/Luxembourg
BEGIN:VTIMEZONE
TZID:Europe/Luxembourg
X-LIC-LOCATION:Europe/Luxembourg
BEGIN:STANDARD
DTSTART:20191027T030000
TZOFFSETFROM:+0200
TZOFFSETTO:+0100
RDATE:20201025T030000
TZNAME:CET
END:STANDARD
BEGIN:DAYLIGHT
DTSTART:20190331T020000
TZOFFSETFROM:+0100
TZOFFSETTO:+0200
RDATE:20200329T020000
TZNAME:CEST
END:DAYLIGHT
END:VTIMEZONE
BEGIN:VEVENT
UID:ai1ec-9131@www.blc.lu
DTSTAMP:20190823T152847Z
CATEGORIES;LANGUAGE=en-GB:Children's Activities\,Kids Crafts
CONTACT:Miriam Scargall\; kids@blc.lu
DESCRIPTION:Friday 9th June\, 9.30 am\nFingers crossed for good weather – w
 e’ll make a giant graffiti wall in the garden and have fun making our own 
 tags and shapes with stencils and sprays. Don’t forget to wear old clothes
  or bring an overall!\nHosted by Miriam in Oberkorn. Space is limited so p
 lease let her know if you would like to come on kids@blc.lu.\n 
DTSTART;TZID=Europe/Luxembourg:20170609T093000
LOCATION:Crafts for kids @ Oberkorn
SEQUENCE:0
SUMMARY:Graphic Graffiti!
URL:http://www.blc.lu/event/fizzing-fireworks/
X-COST-TYPE:free
X-ALT-DESC;FMTTYPE=text/html:<!DOCTYPE HTML PUBLIC '-//W3C//DTD HTML 3.2//E
 N'>\\n<HTML>\\n<HEAD>\\n<TITLE></TITLE>\\n</HEAD>\\n<BODY><p><b>Friday 9th
  June\, 9.30 am</b></p>\n<p>Fingers crossed for good weather – we’ll make 
 a giant graffiti wall in the garden and have fun making our own tags and s
 hapes with stencils and sprays. Don’t forget to wear old clothes or bring 
 an overall!</p>\n<p>Hosted by Miriam in Oberkorn. Space is limited so plea
 se let her know if you would like to come on <a href='mailto:kids@blc.lu'>
 kids@blc.lu</a>.</p>\n<p> </p>\n</BODY></HTML>
X-INSTANT-EVENT:1
END:VEVENT
END:VCALENDAR
