BEGIN:VCALENDAR
VERSION:2.0
PRODID:-//195.8.196.23//NONSGML kigkonsult.se iCalcreator 2.26.9//
CALSCALE:GREGORIAN
METHOD:PUBLISH
X-WR-CALNAME:British Ladies Club of Luxembourg
X-WR-CALDESC:Social Networking for the International Community
X-FROM-URL:http://www.blc.lu
X-WR-TIMEZONE:Europe/Luxembourg
BEGIN:VTIMEZONE
TZID:Europe/Luxembourg
X-LIC-LOCATION:Europe/Luxembourg
BEGIN:STANDARD
DTSTART:20191027T030000
TZOFFSETFROM:+0200
TZOFFSETTO:+0100
RDATE:20201025T030000
TZNAME:CET
END:STANDARD
BEGIN:DAYLIGHT
DTSTART:20190331T020000
TZOFFSETFROM:+0100
TZOFFSETTO:+0200
RDATE:20200329T020000
TZNAME:CEST
END:DAYLIGHT
END:VTIMEZONE
BEGIN:VEVENT
UID:ai1ec-9120@www.blc.lu
DTSTAMP:20190823T152735Z
CATEGORIES;LANGUAGE=en-GB:Lunch / Dinner\,Museum\,Social
CONTACT:Steffie BOS and Linda WYNNE-WILLIAMS\; http://www.neimenster.lu/en/
 Culture
DESCRIPTION:In May we are going to visit Neumunster Abbey in the Grund (Lux
 embourg-City) on a guided tour in English. We suggest doing this on Thursd
 ay\, 11 May. We might combine it with lunch and perhaps a little walk in t
 he Grund.\n \nIf you would like to come\, please contact Steffie as soon a
 s you can.\nPlease come and join us for a chat with friends old and new.\n
 As usual\, if anybody has any ideas for any outings\, please let us know. 
 It is good to have your feedback\, and perhaps go somewhere different that
  you might fancy.\nCould you please send any suggestions or requests to at
 tend events to us both.
DTSTART;TZID=Europe/Luxembourg:20170511T120000
LOCATION:Neumunster Abbey @ Grund (Luxembourg-City)
SEQUENCE:0
SUMMARY:Freewheelers – Museum
URL:http://www.blc.lu/event/freewheelers-museum/
X-COST-TYPE:free
X-ALT-DESC;FMTTYPE=text/html:<!DOCTYPE HTML PUBLIC '-//W3C//DTD HTML 3.2//E
 N'>\\n<HTML>\\n<HEAD>\\n<TITLE></TITLE>\\n</HEAD>\\n<BODY><p>In May we are
  going to visit <b>Neumunster Abbey </b>in the Grund (Luxembourg-City) on 
 a guided tour in English. We suggest doing this on <b>Thursday\, 11 May</b
 >. We might combine it with lunch and perhaps a little walk in the Grund.<
 /p>\n<p> </p>\n<p>If you would like to come\, please contact Steffie as so
 on as you can.</p>\n<p style='text-align: left\;'>Please come and join us 
 for a chat with friends old and new.</p>\n<p style='text-align: left\;'>As
  usual\, if anybody has any ideas for any outings\, please let us know. It
  is good to have your feedback\, and perhaps go somewhere different that y
 ou might fancy.</p>\n<p style='text-align: left\;'>Could you please send a
 ny suggestions or requests to attend events to us both.</p>\n</BODY></HTML
 >
X-INSTANT-EVENT:1
END:VEVENT
END:VCALENDAR
