BEGIN:VCALENDAR
VERSION:2.0
PRODID:-//89.238.170.93//NONSGML kigkonsult.se iCalcreator 2.26.9//
CALSCALE:GREGORIAN
METHOD:PUBLISH
X-WR-CALNAME:British Ladies Club of Luxembourg
X-WR-CALDESC:Social Networking for the International Community
X-FROM-URL:http://www.blc.lu
X-WR-TIMEZONE:Europe/Luxembourg
BEGIN:VTIMEZONE
TZID:Europe/Luxembourg
X-LIC-LOCATION:Europe/Luxembourg
BEGIN:STANDARD
DTSTART:20211031T030000
TZOFFSETFROM:+0200
TZOFFSETTO:+0100
RDATE:20221030T030000
TZNAME:CET
END:STANDARD
BEGIN:DAYLIGHT
DTSTART:20210328T020000
TZOFFSETFROM:+0100
TZOFFSETTO:+0200
RDATE:20220327T020000,20230326T020000
TZNAME:CEST
END:DAYLIGHT
END:VTIMEZONE
BEGIN:VEVENT
UID:ai1ec-9119@www.blc.lu
DTSTAMP:20211007T032119Z
CATEGORIES;LANGUAGE=en-GB:Area Rep &amp\; Member Events\,Lunch / Dinner\,So
 cial
CONTACT:Hilary \; Area F rep\; area-f@blc.lu\; https://www.facebook.com/pag
 es/Restaurant-Chan-S%C3%A0rl/228154060532407
DESCRIPTION:<p>Join us in Kleinbettingen for Chinese food.</p>\n<p><b> </b>
 <b>Wednesday 14th November at 12.00</b></p>\n<p>Contact Hilary Leonard on 
 <a href='mailto:area-f@blc.lu'>area-f@blc.lu</a> if you’d like to attend.<
 /p>\n<p> </p>\n<p> </p>
DTSTART;TZID=Europe/Luxembourg:20181114T120000
LOCATION:Restaurant Chan Sàrl @ 9 rue de la Gare\, Kleinbettingen
SEQUENCE:0
SUMMARY:Chinese Lunch
URL:http://www.blc.lu/event/chinese-lunch/
X-COST-TYPE:free
X-INSTANT-EVENT:1
END:VEVENT
END:VCALENDAR
