BEGIN:VCALENDAR
VERSION:2.0
PRODID:-//195.8.196.23//NONSGML kigkonsult.se iCalcreator 2.26.9//
CALSCALE:GREGORIAN
METHOD:PUBLISH
X-WR-CALNAME:British Ladies Club of Luxembourg
X-WR-CALDESC:Social Networking for the International Community
X-FROM-URL:http://www.blc.lu
X-WR-TIMEZONE:Europe/Luxembourg
BEGIN:VTIMEZONE
TZID:Europe/Luxembourg
X-LIC-LOCATION:Europe/Luxembourg
BEGIN:STANDARD
DTSTART:20191027T030000
TZOFFSETFROM:+0200
TZOFFSETTO:+0100
RDATE:20201025T030000
TZNAME:CET
END:STANDARD
BEGIN:DAYLIGHT
DTSTART:20190331T020000
TZOFFSETFROM:+0100
TZOFFSETTO:+0200
RDATE:20200329T020000
TZNAME:CEST
END:DAYLIGHT
END:VTIMEZONE
BEGIN:VEVENT
UID:ai1ec-8809@www.blc.lu
DTSTAMP:20190823T152610Z
CATEGORIES;LANGUAGE=en-GB:Drinks\,Social
CONTACT:Nuala Convery\; Area P rep\; http://www.kaempff-kohler.lu/
DESCRIPTION:Indulge in a wine and cheese lunch at Kaempff-Kohler (Place Gui
 llaume II\, Lux city).\nFriday\, 17th March at 12.30 pm\nAll areas  welcom
 e.\nPlease contact Nuala (Area P) to RSVP by 16th March.\n \n \n \n \n 
DTSTART;TZID=Europe/Luxembourg:20170317T123000
LOCATION:Kaempff-Kohler @ 18 Place Guillaume II\, 1648 Luxembourg
SEQUENCE:0
SUMMARY:Wine and cheese
URL:http://www.blc.lu/event/wine-and-cheese/
X-COST-TYPE:free
X-ALT-DESC;FMTTYPE=text/html:<!DOCTYPE HTML PUBLIC '-//W3C//DTD HTML 3.2//E
 N'>\\n<HTML>\\n<HEAD>\\n<TITLE></TITLE>\\n</HEAD>\\n<BODY><p>Indulge in a 
 wine and cheese lunch at Kaempff-Kohler (Place Guillaume II\, Lux city).</
 p>\n<p><b>Friday\, 17th March at 12.30 pm</b></p>\n<p>All areas  welcome.<
 /p>\n<p>Please contact Nuala (Area P) to RSVP by 16th March.</p>\n<p> </p>
 \n<p> </p>\n<p> </p>\n<p> </p>\n<p> </p>\n</BODY></HTML>
X-INSTANT-EVENT:1
END:VEVENT
END:VCALENDAR
