BEGIN:VCALENDAR
VERSION:2.0
PRODID:-//195.8.196.23//NONSGML kigkonsult.se iCalcreator 2.26.9//
CALSCALE:GREGORIAN
METHOD:PUBLISH
X-WR-CALNAME:British Ladies Club of Luxembourg
X-WR-CALDESC:Social Networking for the International Community
X-FROM-URL:http://www.blc.lu
X-WR-TIMEZONE:Europe/Luxembourg
BEGIN:VTIMEZONE
TZID:Europe/Luxembourg
X-LIC-LOCATION:Europe/Luxembourg
BEGIN:STANDARD
DTSTART:20191027T030000
TZOFFSETFROM:+0200
TZOFFSETTO:+0100
RDATE:20201025T030000
TZNAME:CET
END:STANDARD
BEGIN:DAYLIGHT
DTSTART:20190331T020000
TZOFFSETFROM:+0100
TZOFFSETTO:+0200
RDATE:20200329T020000
TZNAME:CEST
END:DAYLIGHT
END:VTIMEZONE
BEGIN:VEVENT
UID:ai1ec-8804@www.blc.lu
DTSTAMP:20190823T151937Z
CATEGORIES;LANGUAGE=en-GB:Coffee\,Social
CONTACT:Elaine Wheeler\; Area C rep
DESCRIPTION:<p>Join me for coffee while browsing an exhibition of semi prec
 ious stones!</p>\n<p>All pieces of jewellery are unique and made by a loca
 l artisan.</p>\n<p> </p>\n<p> </p>
DTSTART;TZID=Europe/Luxembourg:20161011T100000
LOCATION:Bridel
SEQUENCE:0
SUMMARY:Coffee and Jewellery
URL:http://www.blc.lu/event/coffee-and-jewellery/
X-COST-TYPE:free
X-INSTANT-EVENT:1
END:VEVENT
END:VCALENDAR
