BEGIN:VCALENDAR
VERSION:2.0
PRODID:-//89.238.170.93//NONSGML kigkonsult.se iCalcreator 2.26.9//
CALSCALE:GREGORIAN
METHOD:PUBLISH
X-WR-CALNAME:British Ladies Club of Luxembourg
X-WR-CALDESC:Social Networking for the International Community
X-FROM-URL:http://www.blc.lu
X-WR-TIMEZONE:Europe/Luxembourg
BEGIN:VTIMEZONE
TZID:Europe/Luxembourg
X-LIC-LOCATION:Europe/Luxembourg
BEGIN:STANDARD
DTSTART:20201025T030000
TZOFFSETFROM:+0200
TZOFFSETTO:+0100
RDATE:20211031T030000
TZNAME:CET
END:STANDARD
BEGIN:DAYLIGHT
DTSTART:20210328T020000
TZOFFSETFROM:+0100
TZOFFSETTO:+0200
RDATE:20220327T020000
TZNAME:CEST
END:DAYLIGHT
END:VTIMEZONE
BEGIN:VEVENT
UID:ai1ec-8801@www.blc.lu
DTSTAMP:20210424T002737Z
CATEGORIES;LANGUAGE=en-GB:Area Rep &amp\; Member Events\,Lunch / Dinner\,So
 cial
CONTACT:Iris\; Area N rep\; area-n@blc.lu\; https://www.beet.lu
DESCRIPTION:All areas are welcome to join area N for dinner.\n Friday 10th 
 May from 7.30pm\nWhere: Beet (vegan restaurant)\,\nRSVP to Iris via email:
  area-n@blc.lu\n \n \n \n \n \n \n 
DTSTART;TZID=Europe/Luxembourg:20190510T193000
GEO:+49.61256;+6.129545
LOCATION:Beet (vegan restaurant) @ 32 Place Guillaume II\, 1684 Luxembourg
SEQUENCE:0
SUMMARY:Dinner
URL:http://www.blc.lu/event/dinner/
X-COST-TYPE:free
X-ALT-DESC;FMTTYPE=text/html:<!DOCTYPE HTML PUBLIC '-//W3C//DTD HTML 3.2//E
 N'>\\n<HTML>\\n<HEAD>\\n<TITLE></TITLE>\\n</HEAD>\\n<BODY><p>All areas are
  welcome to join area N for dinner.</p>\n<p><b> </b><b>Friday 10th May fro
 m 7.30pm</b></p>\n<p>Where: Beet (vegan restaurant)\,</p>\n<p>RSVP to Iris
  via email: <a href='mailto:area-n@blc.lu'>area-n@blc.lu</a></p>\n<p> </p>
 \n<p> </p>\n<p> </p>\n<p> </p>\n<p> </p>\n<p> </p>\n<p> </p>\n</BODY></HTM
 L>
X-INSTANT-EVENT:1
END:VEVENT
END:VCALENDAR
