BEGIN:VCALENDAR
VERSION:2.0
PRODID:-//195.8.196.23//NONSGML kigkonsult.se iCalcreator 2.26.9//
CALSCALE:GREGORIAN
METHOD:PUBLISH
X-WR-CALNAME:British Ladies Club of Luxembourg
X-WR-CALDESC:Social Networking for the International Community
X-FROM-URL:http://www.blc.lu
X-WR-TIMEZONE:Europe/Luxembourg
BEGIN:VTIMEZONE
TZID:Europe/Luxembourg
X-LIC-LOCATION:Europe/Luxembourg
BEGIN:STANDARD
DTSTART:20191027T030000
TZOFFSETFROM:+0200
TZOFFSETTO:+0100
RDATE:20201025T030000
TZNAME:CET
END:STANDARD
BEGIN:DAYLIGHT
DTSTART:20190331T020000
TZOFFSETFROM:+0100
TZOFFSETTO:+0200
RDATE:20200329T020000
TZNAME:CEST
END:DAYLIGHT
END:VTIMEZONE
BEGIN:VEVENT
UID:ai1ec-8645@www.blc.lu
DTSTAMP:20190823T151457Z
CATEGORIES;LANGUAGE=en-GB:BLC Kids Event\,Children's Activities\,Play Park\
 ,Songtime
CONTACT:Liz & Anya\; kids@blc.lu\; http://zigzag.lu/web/home-fr/
DESCRIPTION:Who’s it for: Under 5’s\nHow much: €10 or €15 for 2 children (b
 abies accompanying siblings free)\nWhat’s included: softplay entry\, snack
  for the child\, simple craft\, singing\, tea / coffee for carer\nNo booki
 ng required – when you arrive at ZigZag\, just inform them you are joining
  our group.\nSo\, bring your little ones along and have some fun at ZigZag
  – we’re looking forward to meeting you!
DTSTART;TZID=Europe/Luxembourg:20180904T100000
DTEND;TZID=Europe/Luxembourg:20180904T120000
EXDATE;TZID=Europe/Luxembourg:20181225T100000
EXDATE;TZID=Europe/Luxembourg:20190101T100000
LOCATION:ZigZag @ 7 Rue Pletzer\, 8080 Bertrange\, Luxembourg
RRULE:FREQ=WEEKLY;BYDAY=TU;WKST=SU
SEQUENCE:0
SUMMARY:BLC Pipsqueaks Playtime at ZigZag
URL:http://www.blc.lu/event/blc-pipsqueaks-playtime-at-zigzag/
X-COST-TYPE:free
X-ALT-DESC;FMTTYPE=text/html:<!DOCTYPE HTML PUBLIC '-//W3C//DTD HTML 3.2//E
 N'>\\n<HTML>\\n<HEAD>\\n<TITLE></TITLE>\\n</HEAD>\\n<BODY><p><strong>Who’s
  it for</strong>: Under 5’s<br />\n<strong>How much</strong>: €10 or €15 f
 or 2 children (babies accompanying siblings free)<br />\n<strong>What’s in
 cluded</strong>: softplay entry\, snack for the child\, simple craft\, sin
 ging\, tea / coffee for carer</p>\n<p>No booking required – when you arriv
 e at ZigZag\, just inform them you are joining our group.</p>\n<p>So\, bri
 ng your little ones along and have some fun at ZigZag – we’re looking forw
 ard to meeting you!</p>\n</BODY></HTML>
END:VEVENT
END:VCALENDAR
