BEGIN:VCALENDAR
VERSION:2.0
PRODID:-//195.8.196.23//NONSGML kigkonsult.se iCalcreator 2.26.9//
CALSCALE:GREGORIAN
METHOD:PUBLISH
X-WR-CALNAME:British Ladies Club of Luxembourg
X-WR-CALDESC:Social Networking for the International Community
X-FROM-URL:http://www.blc.lu
X-WR-TIMEZONE:Europe/Luxembourg
BEGIN:VTIMEZONE
TZID:Europe/Luxembourg
X-LIC-LOCATION:Europe/Luxembourg
BEGIN:STANDARD
DTSTART:20191027T030000
TZOFFSETFROM:+0200
TZOFFSETTO:+0100
RDATE:20201025T030000
TZNAME:CET
END:STANDARD
BEGIN:DAYLIGHT
DTSTART:20190331T020000
TZOFFSETFROM:+0100
TZOFFSETTO:+0200
RDATE:20200329T020000
TZNAME:CEST
END:DAYLIGHT
END:VTIMEZONE
BEGIN:VEVENT
UID:ai1ec-8638@www.blc.lu
DTSTAMP:20190823T151618Z
CATEGORIES;LANGUAGE=en-GB:Coffee\,Social
CONTACT:Joanne & Miriam\; Area G rep\; area-g@blc.lu\; http://www.boulanger
 ie-paul.lu/
DESCRIPTION:Come and join Area G for a chance to meet some new people whils
 t having a coffee and a delicious pastry.\n Wednesday 8th November\, from 
 9.30 am\nAll areas are most welcome. No need to RSVP but do feel free to g
 et in touch with us if you need any more info\, or just to say hello! Cont
 act Joanne & Miriam on area-g@blc.lu\n \n \n \n 
DTSTART;TZID=Europe/Luxembourg:20171108T093000
LOCATION:Boulangerie Paul @ 11 Rue du Brill\, Foetz (near the big Cora supe
 rmarket)
SEQUENCE:0
SUMMARY:Coffee & Cake
URL:http://www.blc.lu/event/coffee-cake/
X-COST-TYPE:free
X-ALT-DESC;FMTTYPE=text/html:<!DOCTYPE HTML PUBLIC '-//W3C//DTD HTML 3.2//E
 N'>\\n<HTML>\\n<HEAD>\\n<TITLE></TITLE>\\n</HEAD>\\n<BODY><p>Come and join
  Area G for a chance to meet some new people whilst having a coffee and a 
 delicious pastry.</p>\n<p><b> </b><b>Wednes</b><b>day </b><b>8</b><b>th </
 b><b>Novem</b><b>ber\, </b><b>from 9.30 am</b></p>\n<p>All areas are most 
 welcome. No need to RSVP but do feel free to get in touch with us if you n
 eed any more info\, or just to say hello! Contact Joanne & Miriam on <a hr
 ef='mailto:area-g@blc.lu'>area-g@blc.lu</a></p>\n<p> </p>\n<p> </p>\n<p> <
 /p>\n<p> </p>\n</BODY></HTML>
X-INSTANT-EVENT:1
END:VEVENT
END:VCALENDAR
