BEGIN:VCALENDAR
VERSION:2.0
PRODID:-//89.238.170.93//NONSGML kigkonsult.se iCalcreator 2.26.9//
CALSCALE:GREGORIAN
METHOD:PUBLISH
X-WR-CALNAME:British Ladies Club of Luxembourg
X-WR-CALDESC:Social Networking for the International Community
X-FROM-URL:http://www.blc.lu
X-WR-TIMEZONE:Europe/Luxembourg
BEGIN:VTIMEZONE
TZID:Europe/Luxembourg
X-LIC-LOCATION:Europe/Luxembourg
BEGIN:STANDARD
DTSTART:20211031T030000
TZOFFSETFROM:+0200
TZOFFSETTO:+0100
RDATE:20221030T030000
TZNAME:CET
END:STANDARD
BEGIN:DAYLIGHT
DTSTART:20210328T020000
TZOFFSETFROM:+0100
TZOFFSETTO:+0200
RDATE:20220327T020000,20230326T020000
TZNAME:CEST
END:DAYLIGHT
END:VTIMEZONE
BEGIN:VEVENT
UID:ai1ec-8637@www.blc.lu
DTSTAMP:20211007T032543Z
CATEGORIES;LANGUAGE=en-GB:Area Rep &amp\; Member Events\,Coffee\,Social
CONTACT:Hilary\; Area F rep\; area-f@blc.lu
DESCRIPTION:<p>Join us at Hilary’s place for coffee and a catch-up.</p>\n<p
 ><b> </b><b>Wednesday 6th February\, </b><b>at 9.30am</b></p>\n<p>If you w
 ould like to come along or would like any further info don’t hesitate to g
 et in touch with us at <a href='mailto:area-f@blc.lu'>area-f@blc.lu</a>. E
 verybody is welcome.</p>\n<p>Please contact us by e-mail or phone</p>\n<p>
  </p>\n<p> </p>\n<p> </p>\n<p> </p>\n<p> </p>\n<p> </p>\n<p> </p>\n<p> </p
 >\n<p> </p>\n<p> </p>\n<p> </p>\n<p> </p>\n<p> </p>
DTSTART;TZID=Europe/Luxembourg:20190206T093000
GEO:+49.48001;+6.042957
SEQUENCE:0
SUMMARY:Coffee Morning
URL:http://www.blc.lu/event/coffee-morning-2/
X-COST-TYPE:free
X-INSTANT-EVENT:1
END:VEVENT
END:VCALENDAR
