BEGIN:VCALENDAR
VERSION:2.0
PRODID:-//89.238.170.93//NONSGML kigkonsult.se iCalcreator 2.26.9//
CALSCALE:GREGORIAN
METHOD:PUBLISH
X-WR-CALNAME:British Ladies Club of Luxembourg
X-WR-CALDESC:Social Networking for the International Community
X-FROM-URL:http://www.blc.lu
X-WR-TIMEZONE:Europe/Luxembourg
BEGIN:VTIMEZONE
TZID:Europe/Luxembourg
X-LIC-LOCATION:Europe/Luxembourg
BEGIN:STANDARD
DTSTART:20211031T030000
TZOFFSETFROM:+0200
TZOFFSETTO:+0100
RDATE:20221030T030000
TZNAME:CET
END:STANDARD
BEGIN:DAYLIGHT
DTSTART:20210328T020000
TZOFFSETFROM:+0100
TZOFFSETTO:+0200
RDATE:20220327T020000,20230326T020000
TZNAME:CEST
END:DAYLIGHT
END:VTIMEZONE
BEGIN:VEVENT
UID:ai1ec-8636@www.blc.lu
DTSTAMP:20211007T031742Z
CATEGORIES;LANGUAGE=en-GB:Area Rep &amp\; Member Events\,Drinks\,Social
CONTACT:Chris Mitchell\; http://www.concorde.lu/eng/shops/restaurants/8_pan
 orama-terrasses
DESCRIPTION:On Tuesday\, 12 October we suggest meeting again in the Panoram
 a Bar\, City Concorde from 14:30.\nIf anybody would prefer going somewhere
  else please do not hesitate to let us know – your input counts.\nPlease c
 ome and join us for a chat with friends old and new.\nAs usual\, if anybod
 y has any ideas for any outings\, please let us know. It is good to have y
 our feedback\, and perhaps go somewhere different that you might fancy.\nC
 ould you please send any suggestions or requests to attend events to us bo
 th.
DTSTART;TZID=Europe/Luxembourg:20211012T143000
LOCATION:Panorama Bar @ 80 rte de Longwy - City Concorde\, 8060 Bartringen\
 , Luxembourg
SEQUENCE:0
SUMMARY:Freewheelers – Panorama Bar
URL:http://www.blc.lu/event/freewheelers-panorama-bar/
X-COST-TYPE:free
X-ALT-DESC;FMTTYPE=text/html:<!DOCTYPE HTML PUBLIC '-//W3C//DTD HTML 3.2//E
 N'>\\n<HTML>\\n<HEAD>\\n<TITLE></TITLE>\\n</HEAD>\\n<BODY><p>On <b>Tuesday
 \, 12 October </b>we suggest meeting again in the <b>Panorama Bar\, City C
 oncorde from 14:30.</b></p>\n<p>If anybody would prefer going somewhere el
 se please do not hesitate to let us know – your input counts.</p>\n<p styl
 e='text-align: left\;'>Please come and join us for a chat with friends old
  and new.</p>\n<p style='text-align: left\;'>As usual\, if anybody has any
  ideas for any outings\, please let us know. It is good to have your feedb
 ack\, and perhaps go somewhere different that you might fancy.</p>\n<p sty
 le='text-align: left\;'>Could you please send any suggestions or requests 
 to attend events to us both.</p>\n</BODY></HTML>
X-INSTANT-EVENT:1
END:VEVENT
END:VCALENDAR
