BEGIN:VCALENDAR
VERSION:2.0
PRODID:-//195.8.196.23//NONSGML kigkonsult.se iCalcreator 2.26.9//
CALSCALE:GREGORIAN
METHOD:PUBLISH
X-WR-CALNAME:British Ladies Club of Luxembourg
X-WR-CALDESC:Social Networking for the International Community
X-FROM-URL:http://www.blc.lu
X-WR-TIMEZONE:Europe/Luxembourg
BEGIN:VTIMEZONE
TZID:Europe/Luxembourg
X-LIC-LOCATION:Europe/Luxembourg
BEGIN:STANDARD
DTSTART:20191027T030000
TZOFFSETFROM:+0200
TZOFFSETTO:+0100
RDATE:20201025T030000
TZNAME:CET
END:STANDARD
BEGIN:DAYLIGHT
DTSTART:20190331T020000
TZOFFSETFROM:+0100
TZOFFSETTO:+0200
RDATE:20200329T020000
TZNAME:CEST
END:DAYLIGHT
END:VTIMEZONE
BEGIN:VEVENT
UID:ai1ec-8361@www.blc.lu
DTSTAMP:20190823T152430Z
CATEGORIES;LANGUAGE=en-GB:Newcomers' Coffee
CONTACT:Claire HOLROYD\; newcomers@blc.lu\; http://www.oberweis.lu/
DESCRIPTION:If you’re new to Luxembourg and/or the BLC\, why not join us fo
 r a social event? You can meet new and old members alike and find out more
  about what the BLC has to offer!\nContact: Claire on newcomers@blc.lu for
  more details.
DTSTART;TZID=Europe/Luxembourg:20170215T140000
DTEND;TZID=Europe/Luxembourg:20170215T153000
GEO:+49.60126;+6.13187
LOCATION:Oberweis @ Centre commercial Kirchberg\,  2 rue Alphonse Weicker
SEQUENCE:0
SUMMARY:Newcomers’ – Afternoon
URL:http://www.blc.lu/event/newcomers-coffee-morning-2/
X-COST-TYPE:external
X-ALT-DESC;FMTTYPE=text/html:<!DOCTYPE HTML PUBLIC '-//W3C//DTD HTML 3.2//E
 N'>\\n<HTML>\\n<HEAD>\\n<TITLE></TITLE>\\n</HEAD>\\n<BODY><p>If you’re new
  to Luxembourg and/or the BLC\, why not join us for a social event? You ca
 n meet new and old members alike and find out more about what the BLC has 
 to offer!</p>\n<p>Contact: Claire on <a href='mailto:newcomers@blc.lu'>new
 comers@blc.lu</a> for more details.</p>\n</BODY></HTML>
END:VEVENT
END:VCALENDAR
