BEGIN:VCALENDAR
VERSION:2.0
PRODID:-//195.8.196.23//NONSGML kigkonsult.se iCalcreator 2.26.9//
CALSCALE:GREGORIAN
METHOD:PUBLISH
X-WR-CALNAME:British Ladies Club of Luxembourg
X-WR-CALDESC:Social Networking for the International Community
X-FROM-URL:http://www.blc.lu
X-WR-TIMEZONE:Europe/Luxembourg
BEGIN:VTIMEZONE
TZID:Europe/Luxembourg
X-LIC-LOCATION:Europe/Luxembourg
BEGIN:STANDARD
DTSTART:20191027T030000
TZOFFSETFROM:+0200
TZOFFSETTO:+0100
RDATE:20201025T030000
TZNAME:CET
END:STANDARD
BEGIN:DAYLIGHT
DTSTART:20190331T020000
TZOFFSETFROM:+0100
TZOFFSETTO:+0200
RDATE:20200329T020000
TZNAME:CEST
END:DAYLIGHT
END:VTIMEZONE
BEGIN:VEVENT
UID:ai1ec-8356@www.blc.lu
DTSTAMP:20190823T151810Z
CATEGORIES;LANGUAGE=en-GB:Area Rep &amp\; Member Events\,Crafts
CONTACT:Anneke de VOOGD
DESCRIPTION:Our group loves anything to do with paper\, cards\, boxes\, min
 i books etc.\nMeets each third Wednesday of the month.\nContact Anneke de 
 VOOGD if you would like to come.\n 
DTSTART;TZID=Europe/Luxembourg:20160921T100000
RRULE:FREQ=MONTHLY;BYDAY=3WE
SEQUENCE:0
SUMMARY:Paper Craft
URL:http://www.blc.lu/event/paper-craft/
X-COST-TYPE:external
X-ALT-DESC;FMTTYPE=text/html:<!DOCTYPE HTML PUBLIC '-//W3C//DTD HTML 3.2//E
 N'>\\n<HTML>\\n<HEAD>\\n<TITLE></TITLE>\\n</HEAD>\\n<BODY><p>Our group lov
 es anything to do with paper\, cards\, boxes\, mini books etc.</p>\n<p>Mee
 ts each third Wednesday of the month.</p>\n<p>Contact Anneke de VOOGD if y
 ou would like to come.</p>\n<p> </p>\n</BODY></HTML>
X-INSTANT-EVENT:1
END:VEVENT
END:VCALENDAR
