BEGIN:VCALENDAR
VERSION:2.0
PRODID:-//195.8.196.23//NONSGML kigkonsult.se iCalcreator 2.26.9//
CALSCALE:GREGORIAN
METHOD:PUBLISH
X-WR-CALNAME:British Ladies Club of Luxembourg
X-WR-CALDESC:Social Networking for the International Community
X-FROM-URL:http://www.blc.lu
X-WR-TIMEZONE:Europe/Luxembourg
BEGIN:VTIMEZONE
TZID:Europe/Luxembourg
X-LIC-LOCATION:Europe/Luxembourg
BEGIN:STANDARD
DTSTART:20191027T030000
TZOFFSETFROM:+0200
TZOFFSETTO:+0100
RDATE:20201025T030000
TZNAME:CET
END:STANDARD
BEGIN:DAYLIGHT
DTSTART:20190331T020000
TZOFFSETFROM:+0100
TZOFFSETTO:+0200
RDATE:20200329T020000
TZNAME:CEST
END:DAYLIGHT
END:VTIMEZONE
BEGIN:VEVENT
UID:ai1ec-8353@www.blc.lu
DTSTAMP:20190823T152704Z
CATEGORIES;LANGUAGE=en-GB:Children's Activities\,Mums Social
CONTACT:Ranka SARENAC\; kids@blc.lu
DESCRIPTION:This a chance for mums and kids to socialise together.  Mums ca
 n have a coffee and a chat whilst the kids have a good play.  Let us know 
 if you would like to come along.\nPlease get in touch with her as soon as 
 you can to let her know that you would like to attend.\n 
DTSTART;TZID=Europe/Luxembourg:20170331T150000
DTEND;TZID=Europe/Luxembourg:20170331T170000
LOCATION:Luxembourg Ville
SEQUENCE:0
SUMMARY:Coffee\, Cake and Play
URL:http://www.blc.lu/event/coffee-cake-and-play/
X-COST-TYPE:free
X-ALT-DESC;FMTTYPE=text/html:<!DOCTYPE HTML PUBLIC '-//W3C//DTD HTML 3.2//E
 N'>\\n<HTML>\\n<HEAD>\\n<TITLE></TITLE>\\n</HEAD>\\n<BODY><p>This a chance
  for mums and kids to socialise together.  Mums can have a coffee and a ch
 at whilst the kids have a good play.  Let us know if you would like to com
 e along.</p>\n<p>Please get in touch with her as soon as you can to let he
 r know that you would like to attend.</p>\n<p> </p>\n</BODY></HTML>
END:VEVENT
END:VCALENDAR
