BEGIN:VCALENDAR
VERSION:2.0
PRODID:-//89.238.170.93//NONSGML kigkonsult.se iCalcreator 2.26.9//
CALSCALE:GREGORIAN
METHOD:PUBLISH
X-WR-CALNAME:British Ladies Club of Luxembourg
X-WR-CALDESC:Social Networking for the International Community
X-FROM-URL:http://www.blc.lu
X-WR-TIMEZONE:Europe/Luxembourg
BEGIN:VTIMEZONE
TZID:Europe/Luxembourg
X-LIC-LOCATION:Europe/Luxembourg
BEGIN:STANDARD
DTSTART:20211031T030000
TZOFFSETFROM:+0200
TZOFFSETTO:+0100
RDATE:20221030T030000
TZNAME:CET
END:STANDARD
BEGIN:DAYLIGHT
DTSTART:20210328T020000
TZOFFSETFROM:+0100
TZOFFSETTO:+0200
RDATE:20220327T020000,20230326T020000
TZNAME:CEST
END:DAYLIGHT
END:VTIMEZONE
BEGIN:VEVENT
UID:ai1ec-8352@www.blc.lu
DTSTAMP:20211007T031823Z
CATEGORIES;LANGUAGE=en-GB:Area Rep &amp\; Member Events\,Lunch / Dinner\,So
 cial
CONTACT:Enid Isaac\; Area H rep\; area-h@blc.lu\; http://mathellef.lu/mutfe
 rterhaff.html
DESCRIPTION:Join us in Moutfort for our regular lunch get together.\nFriday
  15 October at 12.30pm\nPlease contact Enid Isaac at area-h@blc.lu if you 
 would like to join us.\n \n 
DTSTART;TZID=Europe/Luxembourg:20211015T123000
LOCATION:Mutferter Haff @ 12 um Kinert\, L-5334 Moutfort
SEQUENCE:0
SUMMARY:Lunch at Mutferter Haff
URL:http://www.blc.lu/event/lunch-at-mutferter-haff/
X-COST-TYPE:free
X-ALT-DESC;FMTTYPE=text/html:<!DOCTYPE HTML PUBLIC '-//W3C//DTD HTML 3.2//E
 N'>\\n<HTML>\\n<HEAD>\\n<TITLE></TITLE>\\n</HEAD>\\n<BODY><p>Join us in Mo
 utfort for our regular lunch get together.</p>\n<p><b>Friday 15 October at
  12.30pm</b></p>\n<p>Please contact Enid Isaac at <a href='mailto:area-h@b
 lc.lu'>area-h@blc.lu</a> if you would like to join us.</p>\n<p> </p>\n<p> 
 </p>\n</BODY></HTML>
X-INSTANT-EVENT:1
END:VEVENT
END:VCALENDAR
