BEGIN:VCALENDAR
VERSION:2.0
PRODID:-//195.8.196.23//NONSGML kigkonsult.se iCalcreator 2.26.9//
CALSCALE:GREGORIAN
METHOD:PUBLISH
X-WR-CALNAME:British Ladies Club of Luxembourg
X-WR-CALDESC:Social Networking for the International Community
X-FROM-URL:http://www.blc.lu
X-WR-TIMEZONE:Europe/Luxembourg
BEGIN:VTIMEZONE
TZID:Europe/Luxembourg
X-LIC-LOCATION:Europe/Luxembourg
BEGIN:STANDARD
DTSTART:20191027T030000
TZOFFSETFROM:+0200
TZOFFSETTO:+0100
RDATE:20201025T030000
TZNAME:CET
END:STANDARD
BEGIN:DAYLIGHT
DTSTART:20190331T020000
TZOFFSETFROM:+0100
TZOFFSETTO:+0200
RDATE:20200329T020000
TZNAME:CEST
END:DAYLIGHT
END:VTIMEZONE
BEGIN:VEVENT
UID:ai1ec-8348@www.blc.lu
DTSTAMP:20190823T152924Z
CATEGORIES;LANGUAGE=en-GB:Music Concert\,Social
CONTACT:Steffie BOS and Linda WYNNE-WILLIAMS\; http://villavauban.lu/en/
DESCRIPTION:Concert in the Park at Villa Vauban on Thursday\, 13 July at 12
 .30pm. This one is the clarinet section of the Luxembourg Philharmonic Orc
 hestra and features works by various artists. You do not have to let us kn
 ow who will be coming but\, afterwards\, if you like\, we could have a wal
 k and/or coffee somewhere.\nPlease come and join us for a chat with friend
 s old and new.\nAs usual\, if anybody has any ideas for any outings\, plea
 se let us know. It is good to have your feedback\, and perhaps go somewher
 e different that you might fancy.\nCould you please send any suggestions o
 r requests to attend events to us both.
DTSTART;TZID=Europe/Luxembourg:20170713T123000
LOCATION:Villa Vauban gardens @ Luxembourg
SEQUENCE:0
SUMMARY:Freewheelers – Concert
URL:http://www.blc.lu/event/freewheelers-concert/
X-COST-TYPE:free
X-ALT-DESC;FMTTYPE=text/html:<!DOCTYPE HTML PUBLIC '-//W3C//DTD HTML 3.2//E
 N'>\\n<HTML>\\n<HEAD>\\n<TITLE></TITLE>\\n</HEAD>\\n<BODY><p>Concert in th
 e <strong>Park at Villa Vauban</strong> on Thursday\, 13 July at 12.30pm. 
 This one is the clarinet section of the Luxembourg Philharmonic Orchestra 
 and features works by various artists. You do not have to let us know who 
 will be coming but\, afterwards\, if you like\, we could have a walk and/o
 r coffee somewhere.</p>\n<p style='text-align: left\;'>Please come and joi
 n us for a chat with friends old and new.</p>\n<p style='text-align: left\
 ;'>As usual\, if anybody has any ideas for any outings\, please let us kno
 w. It is good to have your feedback\, and perhaps go somewhere different t
 hat you might fancy.</p>\n<p style='text-align: left\;'>Could you please s
 end any suggestions or requests to attend events to us both.</p>\n</BODY><
 /HTML>
X-INSTANT-EVENT:1
END:VEVENT
END:VCALENDAR
