BEGIN:VCALENDAR
VERSION:2.0
PRODID:-//195.8.196.23//NONSGML kigkonsult.se iCalcreator 2.26.9//
CALSCALE:GREGORIAN
METHOD:PUBLISH
X-WR-CALNAME:British Ladies Club of Luxembourg
X-WR-CALDESC:Social Networking for the International Community
X-FROM-URL:http://www.blc.lu
X-WR-TIMEZONE:Europe/Luxembourg
BEGIN:VTIMEZONE
TZID:Europe/Luxembourg
X-LIC-LOCATION:Europe/Luxembourg
BEGIN:STANDARD
DTSTART:20191027T030000
TZOFFSETFROM:+0200
TZOFFSETTO:+0100
RDATE:20201025T030000
TZNAME:CET
END:STANDARD
BEGIN:DAYLIGHT
DTSTART:20190331T020000
TZOFFSETFROM:+0100
TZOFFSETTO:+0200
RDATE:20200329T020000
TZNAME:CEST
END:DAYLIGHT
END:VTIMEZONE
BEGIN:VEVENT
UID:ai1ec-8346@www.blc.lu
DTSTAMP:20190823T151854Z
CATEGORIES;LANGUAGE=en-GB:Area Rep &amp\; Member Events\,Card Games\,Hobbie
 s
CONTACT:Sandra VON ESEBECK\; http://www.mandarina-hotel.com
DESCRIPTION:Players meet every Wednesday afternoon in a friendly atmosphere
  at the Mandarina if there are enough players.  Otherwise at a member’s ho
 me.
DTSTART;TZID=Europe/Luxembourg:20160824T140000
DTEND;TZID=Europe/Luxembourg:20160824T170000
LOCATION:Mandarina Hotel @ 218 Route d'Arlon\, 8010 Strassen
RRULE:FREQ=WEEKLY;BYDAY=WE;WKST=SU
SEQUENCE:0
SUMMARY:Bridge
URL:http://www.blc.lu/event/bridge/
X-COST-TYPE:external
X-ALT-DESC;FMTTYPE=text/html:<!DOCTYPE HTML PUBLIC '-//W3C//DTD HTML 3.2//E
 N'>\\n<HTML>\\n<HEAD>\\n<TITLE></TITLE>\\n</HEAD>\\n<BODY><p>Players meet 
 every Wednesday afternoon in a friendly atmosphere at the Mandarina if the
 re are enough players.  Otherwise at a member’s home.</p>\n</BODY></HTML>
END:VEVENT
END:VCALENDAR
