BEGIN:VCALENDAR
VERSION:2.0
PRODID:-//195.8.196.23//NONSGML kigkonsult.se iCalcreator 2.26.9//
CALSCALE:GREGORIAN
METHOD:PUBLISH
X-WR-CALNAME:British Ladies Club of Luxembourg
X-WR-CALDESC:Social Networking for the International Community
X-FROM-URL:http://www.blc.lu
X-WR-TIMEZONE:Europe/Luxembourg
BEGIN:VTIMEZONE
TZID:Europe/Luxembourg
X-LIC-LOCATION:Europe/Luxembourg
BEGIN:STANDARD
DTSTART:20191027T030000
TZOFFSETFROM:+0200
TZOFFSETTO:+0100
RDATE:20201025T030000
TZNAME:CET
END:STANDARD
BEGIN:DAYLIGHT
DTSTART:20190331T020000
TZOFFSETFROM:+0100
TZOFFSETTO:+0200
RDATE:20200329T020000
TZNAME:CEST
END:DAYLIGHT
END:VTIMEZONE
BEGIN:VEVENT
UID:ai1ec-8321@www.blc.lu
DTSTAMP:20190823T151548Z
CATEGORIES;LANGUAGE=en-GB:Area Rep &amp\; Member Events\,Coffee\,Social
CONTACT:Hilary LEONARD / Doreen Peiffer\; http://www.ikea.com/be/fr/store/a
 rlon/
DESCRIPTION:No need to call in advance for the Friday group but if you’d li
 ke to\, please call Hilary (area-f@blc.lu)\; however to avoid the possibil
 ity of being alone on the 2nd Wednesday of the month\, it’s best to check 
 with Doreen Peiffer.\n 
DTSTART;TZID=Europe/Luxembourg:20181026T100000
GEO:+50.503887;+4.469936
LOCATION:Ikea @ Belgium
RRULE:FREQ=MONTHLY;BYDAY=-1FR
SEQUENCE:0
SUMMARY:Ikea Coffee Morning
URL:http://www.blc.lu/event/ikea-coffee-morning/
X-COST-TYPE:free
X-ALT-DESC;FMTTYPE=text/html:<!DOCTYPE HTML PUBLIC '-//W3C//DTD HTML 3.2//E
 N'>\\n<HTML>\\n<HEAD>\\n<TITLE></TITLE>\\n</HEAD>\\n<BODY><p>No need to ca
 ll in advance for the Friday group but if you’d like to\, please call Hila
 ry (<a href='mailto:area-f@blc.lu'>area-f@blc.lu</a>)\; however to avoid t
 he possibility of being alone on the 2nd Wednesday of the month\, it’s bes
 t to check with Doreen Peiffer.</p>\n<p> </p>\n</BODY></HTML>
X-INSTANT-EVENT:1
END:VEVENT
END:VCALENDAR
