BEGIN:VCALENDAR
VERSION:2.0
PRODID:-//89.238.170.93//NONSGML kigkonsult.se iCalcreator 2.26.9//
CALSCALE:GREGORIAN
METHOD:PUBLISH
X-WR-CALNAME:British Ladies Club of Luxembourg
X-WR-CALDESC:Social Networking for the International Community
X-FROM-URL:http://www.blc.lu
X-WR-TIMEZONE:Europe/Luxembourg
BEGIN:VTIMEZONE
TZID:Europe/Luxembourg
X-LIC-LOCATION:Europe/Luxembourg
BEGIN:STANDARD
DTSTART:20211031T030000
TZOFFSETFROM:+0200
TZOFFSETTO:+0100
RDATE:20221030T030000
TZNAME:CET
END:STANDARD
BEGIN:DAYLIGHT
DTSTART:20210328T020000
TZOFFSETFROM:+0100
TZOFFSETTO:+0200
RDATE:20220327T020000,20230326T020000
TZNAME:CEST
END:DAYLIGHT
END:VTIMEZONE
BEGIN:VEVENT
UID:ai1ec-51949@www.blc.lu
DTSTAMP:20211007T031545Z
CATEGORIES;LANGUAGE=en-GB:BLC Events\,Drinks\,Newcomer's Evening\,Social
CONTACT:Laney\; newcomers@blc.lu\; https://mamashelter.com/luxembourg/
DESCRIPTION:<p><b>Let’s have a relaxing chat and dinner</b></p>\n<p>If you’
 re new to Luxembourg and/or the BLC\, why not join us for a social event? 
 You can meet new and old members alike and find out more about what the BL
 C has to offer!</p>\n<p>Please register at <a href='mailto:newcomers@blc.l
 u'>newcomers@blc.lu</a></p>\n<p> </p>\n<p> </p>
DTSTART;TZID=Europe/Luxembourg:20211008T200000
LOCATION:Mama Shelter Luxembourg @ 2 Rue du Fort Niedergruenewald\, 1616 Lu
 xembourg
SEQUENCE:0
SUMMARY:Newcomers’ Event – evening
URL:http://www.blc.lu/event/newcomers-event-evening-2/
X-COST-TYPE:external
X-INSTANT-EVENT:1
END:VEVENT
END:VCALENDAR
