BEGIN:VCALENDAR
VERSION:2.0
PRODID:-//89.238.170.93//NONSGML kigkonsult.se iCalcreator 2.26.9//
CALSCALE:GREGORIAN
METHOD:PUBLISH
X-WR-CALNAME:British Ladies Club of Luxembourg
X-WR-CALDESC:Social Networking for the International Community
X-FROM-URL:http://www.blc.lu
X-WR-TIMEZONE:Europe/Luxembourg
BEGIN:VTIMEZONE
TZID:Europe/Luxembourg
X-LIC-LOCATION:Europe/Luxembourg
BEGIN:STANDARD
DTSTART:20201025T030000
TZOFFSETFROM:+0200
TZOFFSETTO:+0100
RDATE:20211031T030000
TZNAME:CET
END:STANDARD
BEGIN:DAYLIGHT
DTSTART:20210328T020000
TZOFFSETFROM:+0100
TZOFFSETTO:+0200
RDATE:20220327T020000
TZNAME:CEST
END:DAYLIGHT
END:VTIMEZONE
BEGIN:VEVENT
UID:ai1ec-50670@www.blc.lu
DTSTAMP:20210424T002527Z
CATEGORIES;LANGUAGE=en-GB:BLC Events\,Coffee\,Social
CONTACT:events@blc.lu
DESCRIPTION:Wednesday\, July 22nd at 10.00am\nCome join us for a virtual co
 ffee morning and catch up with what is going on and see how others are doi
 ng.\nTo attend\, please register at events@blc.lu for a ZOOM invite.\nEver
 yone Welcome\n 
DTSTART;TZID=Europe/Luxembourg:20200722T100000
SEQUENCE:0
SUMMARY:Virtual Coffee Morning
URL:http://www.blc.lu/event/virtual-coffee-morning/
X-COST-TYPE:free
X-ALT-DESC;FMTTYPE=text/html:<!DOCTYPE HTML PUBLIC '-//W3C//DTD HTML 3.2//E
 N'>\\n<HTML>\\n<HEAD>\\n<TITLE></TITLE>\\n</HEAD>\\n<BODY><p>Wednesday\, J
 uly 22nd at 10.00am</p>\n<p>Come join us for a virtual coffee morning and 
 catch up with what is going on and see how others are doing.</p>\n<p>To at
 tend\, please register at <a href='mailto:events@blc.lu'>events@blc.lu</a>
  for a ZOOM invite.</p>\n<p>Everyone Welcome</p>\n<p> </p>\n</BODY></HTML>
X-INSTANT-EVENT:1
END:VEVENT
END:VCALENDAR
