BEGIN:VCALENDAR
VERSION:2.0
PRODID:-//195.8.196.23//NONSGML kigkonsult.se iCalcreator 2.26.9//
CALSCALE:GREGORIAN
METHOD:PUBLISH
X-WR-CALNAME:British Ladies Club of Luxembourg
X-WR-CALDESC:Social Networking for the International Community
X-FROM-URL:http://www.blc.lu
X-WR-TIMEZONE:Europe/Luxembourg
BEGIN:VTIMEZONE
TZID:Europe/Luxembourg
X-LIC-LOCATION:Europe/Luxembourg
BEGIN:STANDARD
DTSTART:20191027T030000
TZOFFSETFROM:+0200
TZOFFSETTO:+0100
RDATE:20201025T030000
TZNAME:CET
END:STANDARD
BEGIN:DAYLIGHT
DTSTART:20190331T020000
TZOFFSETFROM:+0100
TZOFFSETTO:+0200
RDATE:20200329T020000
TZNAME:CEST
END:DAYLIGHT
END:VTIMEZONE
BEGIN:VEVENT
UID:ai1ec-49962@www.blc.lu
DTSTAMP:20190823T151352Z
CATEGORIES;LANGUAGE=en-GB:Area Rep &amp\; Member Events\,Coffee\,Social
CONTACT:Kim\; area-k@blc.lu
DESCRIPTION:Coffee in Kim’s Garden  (weather permitting)\nFor directions\, 
 please contact Kim area-k@blc.lu\n \n 
DTSTART;TZID=Europe/Luxembourg:20190715T100000
DTEND;TZID=Europe/Luxembourg:20190715T120000
SEQUENCE:0
SUMMARY:Area K
URL:http://www.blc.lu/event/area-k/
X-COST-TYPE:free
X-ALT-DESC;FMTTYPE=text/html:<!DOCTYPE HTML PUBLIC '-//W3C//DTD HTML 3.2//E
 N'>\\n<HTML>\\n<HEAD>\\n<TITLE></TITLE>\\n</HEAD>\\n<BODY><p>Coffee in Kim
 ’s Garden  (weather permitting)</p>\n<p>For directions\, please contact Ki
 m <a href='mailto:area-k@blc.lu'>area-k@blc.lu</a></p>\n<p> </p>\n<p> </p>
 \n</BODY></HTML>
END:VEVENT
END:VCALENDAR
