BEGIN:VCALENDAR
VERSION:2.0
PRODID:-//195.8.196.23//NONSGML kigkonsult.se iCalcreator 2.26.9//
CALSCALE:GREGORIAN
METHOD:PUBLISH
X-WR-CALNAME:British Ladies Club of Luxembourg
X-WR-CALDESC:Social Networking for the International Community
X-FROM-URL:http://www.blc.lu
X-WR-TIMEZONE:Europe/Luxembourg
BEGIN:VTIMEZONE
TZID:Europe/Luxembourg
X-LIC-LOCATION:Europe/Luxembourg
BEGIN:STANDARD
DTSTART:20191027T030000
TZOFFSETFROM:+0200
TZOFFSETTO:+0100
RDATE:20201025T030000
TZNAME:CET
END:STANDARD
BEGIN:DAYLIGHT
DTSTART:20190331T020000
TZOFFSETFROM:+0100
TZOFFSETTO:+0200
RDATE:20200329T020000
TZNAME:CEST
END:DAYLIGHT
END:VTIMEZONE
BEGIN:VEVENT
UID:ai1ec-49806@www.blc.lu
DTSTAMP:20190823T151215Z
CATEGORIES;LANGUAGE=en-GB:BLC Events\,Talk
CONTACT:Jugera\; chair@blc.lu
DESCRIPTION:After an intense two years for us all in the BLC committee\, ma
 ny roles will now be open for a new team to assume roles and bring their v
 ision. The open roles include: Chair\, Secretary\, Treasurer\, Events\, Ne
 wcomers\, Membership Secretary and Editor. Please\, do not hesitate to put
  yourself forward for an enjoyable committee ride.\nI will host an ask-the
 -committee evening at my home on July 3rd\, at 19.00h during which time yo
 u will have the opportunity to ask us about the open roles.
DTSTART;TZID=Europe/Luxembourg:20190703T190000
LOCATION:Bereldange
SEQUENCE:0
SUMMARY:Ask the Committee
URL:http://www.blc.lu/event/ask-the-committee/
X-COST-TYPE:free
X-ALT-DESC;FMTTYPE=text/html:<!DOCTYPE HTML PUBLIC '-//W3C//DTD HTML 3.2//E
 N'>\\n<HTML>\\n<HEAD>\\n<TITLE></TITLE>\\n</HEAD>\\n<BODY><p>After an inte
 nse two years for us all in the BLC committee\, many roles will now be ope
 n for a new team to assume roles and bring their vision. The open roles in
 clude: Chair\, Secretary\, Treasurer\, Events\, Newcomers\, Membership Sec
 retary and Editor. Please\, do not hesitate to put yourself forward for an
  enjoyable committee ride.</p>\n<p>I will host an <b>ask-the-committee </b
 >evening at my home on <b>July 3rd\, at 19.00h </b>during which time you w
 ill have the opportunity to ask us about the open roles.</p>\n</BODY></HTM
 L>
X-INSTANT-EVENT:1
END:VEVENT
END:VCALENDAR
