BEGIN:VCALENDAR
VERSION:2.0
PRODID:-//195.8.196.23//NONSGML kigkonsult.se iCalcreator 2.26.9//
CALSCALE:GREGORIAN
METHOD:PUBLISH
X-WR-CALNAME:British Ladies Club of Luxembourg
X-WR-CALDESC:Social Networking for the International Community
X-FROM-URL:http://www.blc.lu
X-WR-TIMEZONE:Europe/Luxembourg
BEGIN:VTIMEZONE
TZID:Europe/Luxembourg
X-LIC-LOCATION:Europe/Luxembourg
BEGIN:STANDARD
DTSTART:20191027T030000
TZOFFSETFROM:+0200
TZOFFSETTO:+0100
RDATE:20201025T030000
TZNAME:CET
END:STANDARD
BEGIN:DAYLIGHT
DTSTART:20190331T020000
TZOFFSETFROM:+0100
TZOFFSETTO:+0200
RDATE:20200329T020000
TZNAME:CEST
END:DAYLIGHT
END:VTIMEZONE
BEGIN:VEVENT
UID:ai1ec-49795@www.blc.lu
DTSTAMP:20190823T151256Z
CATEGORIES;LANGUAGE=en-GB:Area Rep &amp\; Member Events\,Lunch / Dinner\,So
 cial
CONTACT:Sandra\; Area J rep\; area-j@blc.lu\; http://www.bivio.lu
DESCRIPTION:<p>Join us for dinner</p>\n<p><b>Thursday June 6th  at  7.30pm<
 /b></p>\n<p>Contact Sandra on <a href='mailto:area-j@blc.lu'>area-j@blc.lu
 </a></p>\n<p> </p>
DTSTART;TZID=Europe/Luxembourg:20190606T193000
LOCATION:Del Bivio @ 73 Rue Principale\, 1st floor\, 5367 Schuttrange
SEQUENCE:0
SUMMARY:Area J Dinner
URL:http://www.blc.lu/event/area-j-dinner/
X-COST-TYPE:free
X-INSTANT-EVENT:1
END:VEVENT
END:VCALENDAR
