BEGIN:VCALENDAR
VERSION:2.0
PRODID:-//89.238.170.93//NONSGML kigkonsult.se iCalcreator 2.26.9//
CALSCALE:GREGORIAN
METHOD:PUBLISH
X-WR-CALNAME:British Ladies Club of Luxembourg
X-WR-CALDESC:Social Networking for the International Community
X-FROM-URL:http://www.blc.lu
X-WR-TIMEZONE:Europe/Luxembourg
BEGIN:VTIMEZONE
TZID:Europe/Luxembourg
X-LIC-LOCATION:Europe/Luxembourg
BEGIN:STANDARD
DTSTART:20211031T030000
TZOFFSETFROM:+0200
TZOFFSETTO:+0100
RDATE:20221030T030000
TZNAME:CET
END:STANDARD
BEGIN:DAYLIGHT
DTSTART:20210328T020000
TZOFFSETFROM:+0100
TZOFFSETTO:+0200
RDATE:20220327T020000,20230326T020000
TZNAME:CEST
END:DAYLIGHT
END:VTIMEZONE
BEGIN:VEVENT
UID:ai1ec-41700@www.blc.lu
DTSTAMP:20211007T032801Z
CATEGORIES;LANGUAGE=en-GB:Area Rep &amp\; Member Events\,Lunch / Dinner\,So
 cial
CONTACT:Iris\; area-n@blc.lu\; https://www.mudam.lu/en/le-musee/boutique-ca
 fe/
DESCRIPTION:Mudam\, The Café\, 3 Park Dräi Eechelen\, 1499 Luxembourg\n Sun
 day 17th March at noon \nRSVP to Iris (mailto:area-n@blc.lu) by 10th March
 .\nAll areas welcome!\n 
DTSTART;TZID=Europe/Luxembourg:20190317T120000
LOCATION:Mudam Café @ 3 Park Dräi Eechelen\, 1499 Luxembourg
SEQUENCE:0
SUMMARY:Area N Brunch
URL:http://www.blc.lu/event/area-n-brunch/
X-COST-TYPE:free
X-ALT-DESC;FMTTYPE=text/html:<!DOCTYPE HTML PUBLIC '-//W3C//DTD HTML 3.2//E
 N'>\\n<HTML>\\n<HEAD>\\n<TITLE></TITLE>\\n</HEAD>\\n<BODY><p>Mudam\, The C
 afé\, 3 Park Dräi Eechelen\, 1499 Luxembourg</p>\n<p><b> </b><b>Sunday 17t
 h March at noon </b></p>\n<p>RSVP to Iris (<a href='mailto:area-n@blc.lu'>
 mailto:area-n@blc.lu</a>) by 10th March.</p>\n<p>All areas welcome!</p>\n<
 p> </p>\n</BODY></HTML>
X-INSTANT-EVENT:1
END:VEVENT
END:VCALENDAR
