BEGIN:VCALENDAR
VERSION:2.0
PRODID:-//89.238.170.93//NONSGML kigkonsult.se iCalcreator 2.26.9//
CALSCALE:GREGORIAN
METHOD:PUBLISH
X-WR-CALNAME:British Ladies Club of Luxembourg
X-WR-CALDESC:Social Networking for the International Community
X-FROM-URL:http://www.blc.lu
X-WR-TIMEZONE:Europe/Luxembourg
BEGIN:VTIMEZONE
TZID:Europe/Luxembourg
X-LIC-LOCATION:Europe/Luxembourg
BEGIN:STANDARD
DTSTART:20211031T030000
TZOFFSETFROM:+0200
TZOFFSETTO:+0100
RDATE:20221030T030000
TZNAME:CET
END:STANDARD
BEGIN:DAYLIGHT
DTSTART:20210328T020000
TZOFFSETFROM:+0100
TZOFFSETTO:+0200
RDATE:20220327T020000,20230326T020000
TZNAME:CEST
END:DAYLIGHT
END:VTIMEZONE
BEGIN:VEVENT
UID:ai1ec-41699@www.blc.lu
DTSTAMP:20211007T032739Z
CATEGORIES;LANGUAGE=en-GB:Area Rep &amp\; Member Events\,Lunch / Dinner\,So
 cial
CONTACT:Hilary & Joanne\; area-f@blc.lu\; https://www.facebook.com/pages/Re
 staurant-Chan-Sàrl/228154060532407
DESCRIPTION:Join us for lunch in Kleinbettigen at the restaurant Chez Chan
 \n Tuesday 12th March at 12.30pm\nPlease RSVP at area-f@blc.lu or phone Hi
 lary or Joanne\nEverybody is welcome
DTSTART;TZID=Europe/Luxembourg:20190312T123000
LOCATION:Restaurant Chan Sàrl @ 9 Rue de la Gare\, 8380 Kleinbettingen
SEQUENCE:0
SUMMARY:Area F Lunch
URL:http://www.blc.lu/event/area-f-lunch/
X-COST-TYPE:free
X-ALT-DESC;FMTTYPE=text/html:<!DOCTYPE HTML PUBLIC '-//W3C//DTD HTML 3.2//E
 N'>\\n<HTML>\\n<HEAD>\\n<TITLE></TITLE>\\n</HEAD>\\n<BODY><p>Join us for l
 unch in Kleinbettigen at the restaurant Chez Chan</p>\n<p><b> </b><b>Tuesd
 ay 12th March </b><b>at 12.30pm</b></p>\n<p>Please RSVP at <a href='mailto
 :area-f@blc.lu'>area-f@blc.lu</a> or phone Hilary or Joanne</p>\n<p>Everyb
 ody is welcome</p>\n</BODY></HTML>
X-INSTANT-EVENT:1
END:VEVENT
END:VCALENDAR
