BEGIN:VCALENDAR
VERSION:2.0
PRODID:-//89.238.170.93//NONSGML kigkonsult.se iCalcreator 2.26.9//
CALSCALE:GREGORIAN
METHOD:PUBLISH
X-WR-CALNAME:British Ladies Club of Luxembourg
X-WR-CALDESC:Social Networking for the International Community
X-FROM-URL:http://www.blc.lu
X-WR-TIMEZONE:Europe/Luxembourg
BEGIN:VTIMEZONE
TZID:Europe/Luxembourg
X-LIC-LOCATION:Europe/Luxembourg
BEGIN:STANDARD
DTSTART:20211031T030000
TZOFFSETFROM:+0200
TZOFFSETTO:+0100
RDATE:20221030T030000
TZNAME:CET
END:STANDARD
BEGIN:DAYLIGHT
DTSTART:20210328T020000
TZOFFSETFROM:+0100
TZOFFSETTO:+0200
RDATE:20220327T020000,20230326T020000
TZNAME:CEST
END:DAYLIGHT
END:VTIMEZONE
BEGIN:VEVENT
UID:ai1ec-36983@www.blc.lu
DTSTAMP:20211007T032514Z
CATEGORIES;LANGUAGE=en-GB:BLC Events\,Karaoke\,Social
CONTACT:Joséphine \; events@blc.lu\; http://www.eirelux.com
DESCRIPTION:Free Entrance: open to anyone.  NO PAYMENT before the evening j
 ust booking of tables and meals\nSpécial Option meals €12 each\, drinks no
 t included:\nChicken curry or\nBeef stew or\nfish or chips\nOr a vegetaria
 n option\nKaraoke music all night
DTSTART;TZID=Europe/Luxembourg:20190201T183000
LOCATION:Éirelux Irish Bar @ 40 Rue des Bruyères\, 1274 Howald
SEQUENCE:0
SUMMARY:Afterwork Karaoke
URL:http://www.blc.lu/event/afterwork-karaoke/
X-COST-TYPE:free
X-ALT-DESC;FMTTYPE=text/html:<!DOCTYPE HTML PUBLIC '-//W3C//DTD HTML 3.2//E
 N'>\\n<HTML>\\n<HEAD>\\n<TITLE></TITLE>\\n</HEAD>\\n<BODY><p>Free Entrance
 : open to anyone.  NO PAYMENT before the evening just booking of tables an
 d meals</p>\n<p>Spécial Option meals €12 each\, drinks not included:<br />
 \nChicken curry or<br />\nBeef stew or<br />\nfish or chips<br />\nOr a ve
 getarian option</p>\n<p>Karaoke music all night</p>\n</BODY></HTML>
X-INSTANT-EVENT:1
END:VEVENT
END:VCALENDAR
