BEGIN:VCALENDAR
VERSION:2.0
PRODID:-//89.238.170.93//NONSGML kigkonsult.se iCalcreator 2.26.9//
CALSCALE:GREGORIAN
METHOD:PUBLISH
X-WR-CALNAME:British Ladies Club of Luxembourg
X-WR-CALDESC:Social Networking for the International Community
X-FROM-URL:http://www.blc.lu
X-WR-TIMEZONE:Europe/Luxembourg
BEGIN:VTIMEZONE
TZID:Europe/Luxembourg
X-LIC-LOCATION:Europe/Luxembourg
BEGIN:STANDARD
DTSTART:20211031T030000
TZOFFSETFROM:+0200
TZOFFSETTO:+0100
RDATE:20221030T030000
TZNAME:CET
END:STANDARD
BEGIN:DAYLIGHT
DTSTART:20210328T020000
TZOFFSETFROM:+0100
TZOFFSETTO:+0200
RDATE:20220327T020000,20230326T020000
TZNAME:CEST
END:DAYLIGHT
END:VTIMEZONE
BEGIN:VEVENT
UID:ai1ec-36779@www.blc.lu
DTSTAMP:20211007T032421Z
CATEGORIES;LANGUAGE=en-GB:Area Rep &amp\; Member Events\,Lunch / Dinner\,So
 cial
CONTACT:Liz & Sam\; Area D reps\; area-d@blc.lu\; https://www.il-tartufo.lu
DESCRIPTION:Il Tartufo in Capellen\nWednesday 16th January at 7.30pm\nRSVP 
 to 621 744 245\nAll areas welcome!\n 
DTSTART;TZID=Europe/Luxembourg:20190116T193000
LOCATION:Il Tartufo @ 30 Parc d'Activites Capellen\, L-8303 Mamer
SEQUENCE:0
SUMMARY:Area D Dinner
URL:http://www.blc.lu/event/area-d-dinner/
X-COST-TYPE:free
X-ALT-DESC;FMTTYPE=text/html:<!DOCTYPE HTML PUBLIC '-//W3C//DTD HTML 3.2//E
 N'>\\n<HTML>\\n<HEAD>\\n<TITLE></TITLE>\\n</HEAD>\\n<BODY><p>Il Tartufo in
  Capellen</p>\n<p><b>Wednesday 16th January at 7.30pm</b></p>\n<p>RSVP to 
 621 744 245</p>\n<p>All areas welcome!</p>\n<p> </p>\n</BODY></HTML>
X-INSTANT-EVENT:1
END:VEVENT
END:VCALENDAR
