BEGIN:VCALENDAR
VERSION:2.0
PRODID:-//89.238.170.93//NONSGML kigkonsult.se iCalcreator 2.26.9//
CALSCALE:GREGORIAN
METHOD:PUBLISH
X-WR-CALNAME:British Ladies Club of Luxembourg
X-WR-CALDESC:Social Networking for the International Community
X-FROM-URL:http://www.blc.lu
X-WR-TIMEZONE:Europe/Luxembourg
BEGIN:VTIMEZONE
TZID:Europe/Luxembourg
X-LIC-LOCATION:Europe/Luxembourg
BEGIN:STANDARD
DTSTART:20211031T030000
TZOFFSETFROM:+0200
TZOFFSETTO:+0100
RDATE:20221030T030000
TZNAME:CET
END:STANDARD
BEGIN:DAYLIGHT
DTSTART:20210328T020000
TZOFFSETFROM:+0100
TZOFFSETTO:+0200
RDATE:20220327T020000,20230326T020000
TZNAME:CEST
END:DAYLIGHT
END:VTIMEZONE
BEGIN:VEVENT
UID:ai1ec-36778@www.blc.lu
DTSTAMP:20211007T032446Z
CATEGORIES;LANGUAGE=en-GB:Area Rep &amp\; Member Events\,Coffee\,Social
CONTACT:Joanne & Miriam\; Area G reps\; area-g@blc.lu\; https://boulangerie
 -paul.lu/shop/
DESCRIPTION:Join us for a coffee and a chat at Boulangerie Paul\, Foetz (ne
 xt to the big Cora)\n Thursday 24th January\, from 9.30am onwards\nAll are
 as most welcome.  No need to RSVP\, but do feel free to get in touch if yo
 u need any more information area-g@blc.lu\n 
DTSTART;TZID=Europe/Luxembourg:20190124T093000
LOCATION:Boulangerie Paul @ 11 Rue du Brill\, 3898 Foetz
SEQUENCE:0
SUMMARY:Coffee Morning for Area G
URL:http://www.blc.lu/event/coffee-morning-for-area-g/
X-COST-TYPE:free
X-ALT-DESC;FMTTYPE=text/html:<!DOCTYPE HTML PUBLIC '-//W3C//DTD HTML 3.2//E
 N'>\\n<HTML>\\n<HEAD>\\n<TITLE></TITLE>\\n</HEAD>\\n<BODY><p>Join us for a
  coffee and a chat at Boulangerie Paul\, Foetz (next to the big Cora)</p>
 \n<p><b> </b><b>Thursday 24th January\, </b><b>from 9.30am onwards</b></p>
 \n<p>All areas most welcome.  No need to RSVP\, but do feel free to get in
  touch if you need any more information <a href='mailto:area-g@blc.lu'>are
 a-g@blc.lu</a></p>\n<p> </p>\n</BODY></HTML>
X-INSTANT-EVENT:1
END:VEVENT
END:VCALENDAR
