BEGIN:VCALENDAR
VERSION:2.0
PRODID:-//89.238.170.93//NONSGML kigkonsult.se iCalcreator 2.26.9//
CALSCALE:GREGORIAN
METHOD:PUBLISH
X-WR-CALNAME:British Ladies Club of Luxembourg
X-WR-CALDESC:Social Networking for the International Community
X-FROM-URL:http://www.blc.lu
X-WR-TIMEZONE:Europe/Luxembourg
BEGIN:VTIMEZONE
TZID:Europe/Luxembourg
X-LIC-LOCATION:Europe/Luxembourg
BEGIN:STANDARD
DTSTART:20211031T030000
TZOFFSETFROM:+0200
TZOFFSETTO:+0100
RDATE:20221030T030000
TZNAME:CET
END:STANDARD
BEGIN:DAYLIGHT
DTSTART:20210328T020000
TZOFFSETFROM:+0100
TZOFFSETTO:+0200
RDATE:20220327T020000,20230326T020000
TZNAME:CEST
END:DAYLIGHT
END:VTIMEZONE
BEGIN:VEVENT
UID:ai1ec-36776@www.blc.lu
DTSTAMP:20211007T032637Z
CATEGORIES;LANGUAGE=en-GB:Area Rep &amp\; Member Events\,Lunch / Dinner\,So
 cial
CONTACT:Kim & Moira\; Area K reps\; area-k@blc.lu\; https://www.osteriadini
 ederanven.lu/fr/
DESCRIPTION:Friday 8th February at 7.30pm\nAt the ‘Osteria di Niederanven’
 \n2 Rue de Munsbach\, L-6941 Niederanven\nRSVP to Kim or Moira (area-k@blc
 .lu)\n \n 
DTSTART;TZID=Europe/Luxembourg:20190208T193000
LOCATION:Osteria di Niederanven @ 2 Rue de Munsbach\, L-6941 Niederanven
SEQUENCE:0
SUMMARY:Area K New Year Dinner
URL:http://www.blc.lu/event/area-k-new-year-dinner/
X-COST-TYPE:free
X-ALT-DESC;FMTTYPE=text/html:<!DOCTYPE HTML PUBLIC '-//W3C//DTD HTML 3.2//E
 N'>\\n<HTML>\\n<HEAD>\\n<TITLE></TITLE>\\n</HEAD>\\n<BODY><p><b>Friday 8th
  February at 7.30pm</b></p>\n<p>At the ‘Osteria di Niederanven’</p>\n<p>2 
 Rue de Munsbach\, L-6941 Niederanven</p>\n<p>RSVP to Kim or Moira (<a href
 ='mailto:area-k@blc.lu'>area-k@blc.lu</a>)</p>\n<p> </p>\n<p> </p>\n</BODY
 ></HTML>
X-INSTANT-EVENT:1
END:VEVENT
END:VCALENDAR
