BEGIN:VCALENDAR
VERSION:2.0
PRODID:-//89.238.170.93//NONSGML kigkonsult.se iCalcreator 2.26.9//
CALSCALE:GREGORIAN
METHOD:PUBLISH
X-WR-CALNAME:British Ladies Club of Luxembourg
X-WR-CALDESC:Social Networking for the International Community
X-FROM-URL:http://www.blc.lu
X-WR-TIMEZONE:Europe/Luxembourg
BEGIN:VTIMEZONE
TZID:Europe/Luxembourg
X-LIC-LOCATION:Europe/Luxembourg
BEGIN:STANDARD
DTSTART:20211031T030000
TZOFFSETFROM:+0200
TZOFFSETTO:+0100
RDATE:20221030T030000
TZNAME:CET
END:STANDARD
BEGIN:DAYLIGHT
DTSTART:20210328T020000
TZOFFSETFROM:+0100
TZOFFSETTO:+0200
RDATE:20220327T020000,20230326T020000
TZNAME:CEST
END:DAYLIGHT
END:VTIMEZONE
BEGIN:VEVENT
UID:ai1ec-34937@www.blc.lu
DTSTAMP:20211007T032358Z
CATEGORIES;LANGUAGE=en-GB:BLC Events\,Lunch / Dinner\,Social
CONTACT:Jo & Clare
DESCRIPTION:Come and join Jo and Clare at the Luxembourg Christmas markets 
 on Tuesday 18th December for some glühwein and flammkuchen.\nWe will meet 
 from 6.30pm at a glühwein stand near the Golden Lady and then go and eat f
 lammkuchen at 8pm at the restaurant in the market overlooking the Petrusse
  valley. We will need to book a table so if you would like to join us\, pl
 ease let us know.\nFor more details please contact Jo Roberts (newcomers@b
 lc.lu) or Clare Jenner (treasurer@blc.lu)\n 
DTSTART;TZID=Europe/Luxembourg:20181218T183000
SEQUENCE:0
SUMMARY:Christmas market meet up – all welcome
URL:http://www.blc.lu/event/christmas-market-meet-up-all-welcome/
X-COST-TYPE:free
X-ALT-DESC;FMTTYPE=text/html:<!DOCTYPE HTML PUBLIC '-//W3C//DTD HTML 3.2//E
 N'>\\n<HTML>\\n<HEAD>\\n<TITLE></TITLE>\\n</HEAD>\\n<BODY><p>Come and join
  Jo and Clare at the Luxembourg Christmas markets on <b>Tuesday 18th Decem
 ber </b>for some glühwein and flammkuchen.</p>\n<p>We will meet from <b>6.
 30pm </b>at a glühwein stand near the Golden Lady and then go and eat flam
 mkuchen at 8pm at the restaurant in the market overlooking the Petrusse va
 lley. We will need to book a table so if you would like to join us\, pleas
 e let us know.</p>\n<p>For more details please contact Jo Roberts (<a href
 ='mailto:newcomers@blc.lu'>newcomers@blc.lu</a>) or Clare Jenner (<a href=
 'mailto:treasurer@blc.lu'>treasurer@blc.lu</a>)</p>\n<p> </p>\n</BODY></HT
 ML>
X-INSTANT-EVENT:1
END:VEVENT
END:VCALENDAR
