BEGIN:VCALENDAR
VERSION:2.0
PRODID:-//89.238.170.93//NONSGML kigkonsult.se iCalcreator 2.26.9//
CALSCALE:GREGORIAN
METHOD:PUBLISH
X-WR-CALNAME:British Ladies Club of Luxembourg
X-WR-CALDESC:Social Networking for the International Community
X-FROM-URL:http://www.blc.lu
X-WR-TIMEZONE:Europe/Luxembourg
BEGIN:VTIMEZONE
TZID:Europe/Luxembourg
X-LIC-LOCATION:Europe/Luxembourg
BEGIN:STANDARD
DTSTART:20211031T030000
TZOFFSETFROM:+0200
TZOFFSETTO:+0100
RDATE:20221030T030000
TZNAME:CET
END:STANDARD
BEGIN:DAYLIGHT
DTSTART:20210328T020000
TZOFFSETFROM:+0100
TZOFFSETTO:+0200
RDATE:20220327T020000,20230326T020000
TZNAME:CEST
END:DAYLIGHT
END:VTIMEZONE
BEGIN:VEVENT
UID:ai1ec-34936@www.blc.lu
DTSTAMP:20211007T032331Z
CATEGORIES;LANGUAGE=en-GB:Area Rep &amp\; Member Events\,Coffee\,Shopping\,
 Social
CONTACT:Sandra\; area-j@blc.lu\; https://suiteauchocolate.spotcity.com
DESCRIPTION:Join us for breakfast at Suite au Chocolat\n Tuesday 4th Decemb
 er\, from 9.30am\nAfterwards we will visit the Christmas Markets which are
  only a few steps away.\nFor more details contact me at area-j@blc.lu\n 
DTSTART;TZID=Europe/Luxembourg:20181204T093000
LOCATION:Suite au Chocolat @ Glocken Strasse 9\, Trier\, Germany
SEQUENCE:0
SUMMARY:Breakfast in Trier and  the Christmas Market
URL:http://www.blc.lu/event/breakfast-in-trier-and-the-christmas-market/
X-COST-TYPE:free
X-ALT-DESC;FMTTYPE=text/html:<!DOCTYPE HTML PUBLIC '-//W3C//DTD HTML 3.2//E
 N'>\\n<HTML>\\n<HEAD>\\n<TITLE></TITLE>\\n</HEAD>\\n<BODY><p>Join us for b
 reakfast at Suite au Chocolat</p>\n<p><b> </b><b>Tuesday 4th December\, </
 b><b>from 9.30am</b></p>\n<p>Afterwards we will visit the Christmas Market
 s which are only a few steps away.</p>\n<p>For more details contact me at 
 <a href='mailto:area-j@blc.lu'>area-j@blc.lu</a></p>\n<p> </p>\n</BODY></H
 TML>
X-INSTANT-EVENT:1
END:VEVENT
END:VCALENDAR
