BEGIN:VCALENDAR
VERSION:2.0
PRODID:-//89.238.170.93//NONSGML kigkonsult.se iCalcreator 2.26.9//
CALSCALE:GREGORIAN
METHOD:PUBLISH
X-WR-CALNAME:British Ladies Club of Luxembourg
X-WR-CALDESC:Social Networking for the International Community
X-FROM-URL:http://www.blc.lu
X-WR-TIMEZONE:Europe/Luxembourg
BEGIN:VTIMEZONE
TZID:Europe/Luxembourg
X-LIC-LOCATION:Europe/Luxembourg
BEGIN:STANDARD
DTSTART:20211031T030000
TZOFFSETFROM:+0200
TZOFFSETTO:+0100
RDATE:20221030T030000
TZNAME:CET
END:STANDARD
BEGIN:DAYLIGHT
DTSTART:20210328T020000
TZOFFSETFROM:+0100
TZOFFSETTO:+0200
RDATE:20220327T020000,20230326T020000
TZNAME:CEST
END:DAYLIGHT
END:VTIMEZONE
BEGIN:VEVENT
UID:ai1ec-33781@www.blc.lu
DTSTAMP:20211007T031452Z
CATEGORIES;LANGUAGE=en-GB:Area Rep &amp\; Member Events\,Sport\,Tennis
CONTACT:Wendy Dunning-Baker\; wendydunning@hotmail.com
DESCRIPTION:The Winter Season runs from 1st October 2021 to 30th April 2022
 \, and the courts are reserved every Wednesday morning from 10am to 12 noo
 n. Played at Arquebusiers Tennis Club\, 140 Val Sainte-Croix\, Belair\, Lu
 xembourg\; the club has eight indoor carpeted courts\, a restaurant on sit
 e\, free private parking\, and excellent changing facilities.\nPlayers are
  encouraged to sign up at the start of the season\, even if they cannot pl
 ay throughout\; new players are welcome to join anytime. The cost for the 
 season depends on the number of players  and will be calculated soon. The 
 tennis is generally played as doubles.\nFor further information or if you 
 are interested in joining us\, please email Wendy Dunning at: wendydunning
 @hotmail.com\n \n \n 
DTSTART;TZID=Europe/Luxembourg:20211006T100000
DTEND;TZID=Europe/Luxembourg:20211006T120000
LOCATION:Arquebusiers Tennis Club @ 142 Val Ste. Croix\, Bel-Air\, L-1370
RRULE:FREQ=WEEKLY;UNTIL=20220430T235959Z;BYDAY=WE;WKST=SU
SEQUENCE:0
SUMMARY:BLC Tennis Group – Winter Season 2021-2022
URL:http://www.blc.lu/event/blc-tennis-group-winter-season-2021-2022/
X-COST-TYPE:free
X-ALT-DESC;FMTTYPE=text/html:<!DOCTYPE HTML PUBLIC '-//W3C//DTD HTML 3.2//E
 N'>\\n<HTML>\\n<HEAD>\\n<TITLE></TITLE>\\n</HEAD>\\n<BODY><p>The Winter Se
 ason runs from <b>1</b><b><sup>st</sup></b><b> October 2021 to 30</b><b><s
 up>th</sup></b><b> April 2022</b>\, and the courts are reserved every <b>W
 ednesday morning from 10am to 12 noon</b>. Played at Arquebusiers Tennis C
 lub\, 140 Val Sainte-Croix\, Belair\, Luxembourg\; the club has eight indo
 or carpeted courts\, a restaurant on site\, free private parking\, and exc
 ellent changing facilities.</p>\n<p>Players are encouraged to sign up at t
 he start of the season\, even if they cannot play throughout\; new players
  are welcome to join anytime. The cost for the season depends on the numbe
 r of players  and will be calculated soon. The tennis is generally played 
 as doubles.</p>\n<p>For further information or if you are interested in jo
 ining us\, please email Wendy Dunning at: <a href='mailto:wendydunning@hot
 mail.com'>wendydunning@hotmail.com</a></p>\n<p> </p>\n<p> </p>\n<p> </p>\n
 </BODY></HTML>
END:VEVENT
END:VCALENDAR
