BEGIN:VCALENDAR
VERSION:2.0
PRODID:-//89.238.170.93//NONSGML kigkonsult.se iCalcreator 2.26.9//
CALSCALE:GREGORIAN
METHOD:PUBLISH
X-WR-CALNAME:British Ladies Club of Luxembourg
X-WR-CALDESC:Social Networking for the International Community
X-FROM-URL:http://www.blc.lu
X-WR-TIMEZONE:Europe/Luxembourg
BEGIN:VTIMEZONE
TZID:Europe/Luxembourg
X-LIC-LOCATION:Europe/Luxembourg
BEGIN:STANDARD
DTSTART:20211031T030000
TZOFFSETFROM:+0200
TZOFFSETTO:+0100
RDATE:20221030T030000
TZNAME:CET
END:STANDARD
BEGIN:DAYLIGHT
DTSTART:20210328T020000
TZOFFSETFROM:+0100
TZOFFSETTO:+0200
RDATE:20220327T020000,20230326T020000
TZNAME:CEST
END:DAYLIGHT
END:VTIMEZONE
BEGIN:VEVENT
UID:ai1ec-33778@www.blc.lu
DTSTAMP:20211007T032215Z
CATEGORIES;LANGUAGE=en-GB:Area Rep &amp\; Member Events\,Drinks\,Lunch / Di
 nner\,Social
CONTACT:Liz & Sam\; Area D reps\; area-d@blc.lu\; http://restaurant-papaya.
 lu/home.html
DESCRIPTION:Join Area D at Papaya in Holzem\nWednesday 21st November at 7.3
 0pm\nAll areas welcome. RSVP area-d@blc.lu if you’d like to attend.\n 
DTSTART;TZID=Europe/Luxembourg:20181121T193000
LOCATION:Restaurant Papaya  @ 2 Rue de l'École\, 8278 Mamer
SEQUENCE:0
SUMMARY:Dinner and Drinks!
URL:http://www.blc.lu/event/dinner-and-drinks/
X-COST-TYPE:free
X-ALT-DESC;FMTTYPE=text/html:<!DOCTYPE HTML PUBLIC '-//W3C//DTD HTML 3.2//E
 N'>\\n<HTML>\\n<HEAD>\\n<TITLE></TITLE>\\n</HEAD>\\n<BODY><p>Join Area D a
 t Papaya in Holzem</p>\n<p><b>Wednesday 21st November at 7.30pm</b></p>\n<
 p>All areas welcome. RSVP <a href='mailto:area-d@blc.lu'>area-d@blc.lu</a>
  if you’d like to attend.</p>\n<p> </p>\n</BODY></HTML>
X-INSTANT-EVENT:1
END:VEVENT
END:VCALENDAR
