BEGIN:VCALENDAR
VERSION:2.0
PRODID:-//89.238.170.93//NONSGML kigkonsult.se iCalcreator 2.26.9//
CALSCALE:GREGORIAN
METHOD:PUBLISH
X-WR-CALNAME:British Ladies Club of Luxembourg
X-WR-CALDESC:Social Networking for the International Community
X-FROM-URL:http://www.blc.lu
X-WR-TIMEZONE:Europe/Luxembourg
BEGIN:VTIMEZONE
TZID:Europe/Luxembourg
X-LIC-LOCATION:Europe/Luxembourg
BEGIN:STANDARD
DTSTART:20211031T030000
TZOFFSETFROM:+0200
TZOFFSETTO:+0100
RDATE:20221030T030000
TZNAME:CET
END:STANDARD
BEGIN:DAYLIGHT
DTSTART:20210328T020000
TZOFFSETFROM:+0100
TZOFFSETTO:+0200
RDATE:20220327T020000,20230326T020000
TZNAME:CEST
END:DAYLIGHT
END:VTIMEZONE
BEGIN:VEVENT
UID:ai1ec-33775@www.blc.lu
DTSTAMP:20211007T032238Z
CATEGORIES;LANGUAGE=en-GB:Area Rep &amp\; Member Events\,Lunch / Dinner\,So
 cial
CONTACT:Sandra \; Area J rep\; area-j@blc.lu\; https://www.johannishof.eu/d
 e/zimmerangebot.html
DESCRIPTION:Celebrate the Feast of St Martin!\nThursday 22nd November at 7.
 30pm\nLet me know asap if you would like to come:\n \n 
DTSTART;TZID=Europe/Luxembourg:20181122T193000
LOCATION:Johannishof Restaurant @ WInerTrierer Strasse 24\, Langsur- Meseni
 ch (about 5 minutes from Wasserbillig)
SEQUENCE:0
SUMMARY:Roast Goose Dinner
URL:http://www.blc.lu/event/roast-goose-dinner/
X-COST-TYPE:free
X-ALT-DESC;FMTTYPE=text/html:<!DOCTYPE HTML PUBLIC '-//W3C//DTD HTML 3.2//E
 N'>\\n<HTML>\\n<HEAD>\\n<TITLE></TITLE>\\n</HEAD>\\n<BODY><p>Celebrate the
  Feast of St Martin!</p>\n<p><b>Thursday 22nd November at 7.30pm</b></p>\n
 <p>Let me know asap if you would like to come:</p>\n<p> </p>\n<p> </p>\n</
 BODY></HTML>
X-INSTANT-EVENT:1
END:VEVENT
END:VCALENDAR
