BEGIN:VCALENDAR
VERSION:2.0
PRODID:-//89.238.170.93//NONSGML kigkonsult.se iCalcreator 2.26.9//
CALSCALE:GREGORIAN
METHOD:PUBLISH
X-WR-CALNAME:British Ladies Club of Luxembourg
X-WR-CALDESC:Social Networking for the International Community
X-FROM-URL:http://www.blc.lu
X-WR-TIMEZONE:Europe/Luxembourg
BEGIN:VTIMEZONE
TZID:Europe/Luxembourg
X-LIC-LOCATION:Europe/Luxembourg
BEGIN:STANDARD
DTSTART:20201025T030000
TZOFFSETFROM:+0200
TZOFFSETTO:+0100
RDATE:20211031T030000
TZNAME:CET
END:STANDARD
BEGIN:DAYLIGHT
DTSTART:20210328T020000
TZOFFSETFROM:+0100
TZOFFSETTO:+0200
RDATE:20220327T020000
TZNAME:CEST
END:DAYLIGHT
END:VTIMEZONE
BEGIN:VEVENT
UID:ai1ec-33774@www.blc.lu
DTSTAMP:20210424T002751Z
CATEGORIES;LANGUAGE=en-GB:Area Rep &amp\; Member Events\,Coffee\,Social
CONTACT:Joanne & Miriam\; Area G reps\; area-g@blc.lu\; https://boulangerie
 -paul.lu/en/shop/
DESCRIPTION:Join Joanne and Miriam for coffee\, croissants and a chat.\n Tu
 esday 20th November\, at 9.30am onwards\nBoulangerie Paul is located next 
 to the big branch of Cora supermarket in Foetz\, so there is plenty of par
 king and it’s easy to find.\nIf you would like to come along or would like
  any further info don’t hesitate to get in touch with us on area-g@blc.lu.
   We look forward to seeing you there!\n 
DTSTART;TZID=Europe/Luxembourg:20181120T093000
LOCATION:Boulangerie Paul
SEQUENCE:0
SUMMARY:Area G Coffee Morning Meetup
URL:http://www.blc.lu/event/area-g-coffee-morning-meetup/
X-COST-TYPE:free
X-ALT-DESC;FMTTYPE=text/html:<!DOCTYPE HTML PUBLIC '-//W3C//DTD HTML 3.2//E
 N'>\\n<HTML>\\n<HEAD>\\n<TITLE></TITLE>\\n</HEAD>\\n<BODY><p>Join Joanne a
 nd Miriam for coffee\, croissants and a chat.</p>\n<p><b> </b><b>Tuesday 2
 0th November\, at 9.30am onwards</b></p>\n<p>Boulangerie Paul is located n
 ext to the big branch of Cora supermarket in Foetz\, so there is plenty of
  parking and it’s easy to find.</p>\n<p>If you would like to come along or
  would like any further info don’t hesitate to get in touch with us on <a 
 href='mailto:area-g@blc.lu'>area-g@blc.lu</a>.  We look forward to seeing 
 you there!</p>\n<p> </p>\n</BODY></HTML>
X-INSTANT-EVENT:1
END:VEVENT
END:VCALENDAR
